BEGIN:VCALENDAR
VERSION:2.0
PRODID:-//Ophthalmology &amp; Visual Sciences//NONSGML Events//EN
CALSCALE:GREGORIAN
X-ORIGINAL-URL:https://ophthalmology.wustl.edu/calendar/
X-WR-CALDESC:Ophthalmology &amp; Visual Sciences - Events
BEGIN:VEVENT
UID:20220716T1638Z-1657989508.7436-EO-18277-1@172.23.128.19
STATUS:CONFIRMED
DTSTAMP:20260419T055023Z
CREATED:20220714T211758Z
LAST-MODIFIED:20230106T200022Z
DTSTART;TZID=America/Chicago:20230415T080000
DTEND;TZID=America/Chicago:20230415T154000
SUMMARY: 2023 Ophthalmology Spring Update
DESCRIPTION: 34th Annual Ophthalmology Spring Update More Information
X-ALT-DESC;FMTTYPE=text/html: <h3 style="text-align: center\;">34th Annual 
 Ophthalmology Spring Update</h3><p style="text-align: center\;"><a href="ht
 tps://ophthalmology.wustl.edu/spring-update-2023/">More Information</a></p>
CATEGORIES:All,Alumni,Featured,Visiting Professor
ORGANIZER;CN="Katy":MAILTO:kpaglusch@wustl.edu
URL;VALUE=URI:https://ophthalmology.wustl.edu/calendar/event/2023-ophthalmo
 logy-spring-update/
END:VEVENT
BEGIN:VTIMEZONE
TZID:America/Chicago
BEGIN:DAYLIGHT
TZOFFSETFROM:-0600
TZOFFSETTO:-0500
DTSTART:20230312T080000
TZNAME:CDT
END:DAYLIGHT
END:VTIMEZONE
END:VCALENDAR
