BEGIN:VCALENDAR
VERSION:2.0
PRODID:-//Ophthalmology &amp; Visual Sciences//NONSGML Events//EN
CALSCALE:GREGORIAN
X-ORIGINAL-URL:https://ophthalmology.wustl.edu/calendar/
X-WR-CALDESC:Ophthalmology &amp; Visual Sciences - Events
BEGIN:VEVENT
UID:20250107T1646Z-1736268418.5848-EO-26086-1@10.24.106.144
STATUS:CONFIRMED
DTSTAMP:20260424T201032Z
CREATED:20250107T164234Z
LAST-MODIFIED:20250310T174928Z
DTSTART;TZID=America/Chicago:20250426T080000
DTEND;TZID=America/Chicago:20250426T143000
SUMMARY: 36th Annual Ophthalmology Spring Update
DESCRIPTION: 36th Annual Ophthalmology Spring Update Saturday\, April 26\, 
 2025 | 8:00 a.m. – 2:30 p.m. WashU Medicine Farrell Learning & Teaching Cen
 ter – Connor Auditorium  Featured Speakers: 34th Annual Distinguished Alumn
 us Award Recipient Collin McClelland\, MD\, Associate Professor\, Universit
 y of Minnesota Peter Chang\, MD\, Professor of Clinical Ophthalmology\, Bas
 com Palmer Eye Institute Bennie Jeng\, MD\, […]
X-ALT-DESC;FMTTYPE=text/html: <h2 style="text-align: center\;">36th Annual 
 Ophthalmology Spring Update</h2><h5 style="text-align: center\;"><span clas
 s="OYPEnA font-feature-liga-off font-feature-clig-off font-feature-calt-off
  text-decoration-none text-strikethrough-none">Saturday\, April 26\, 2025 |
  8:00 a.m. - 2:30 p.m.</span></h5><h5 style="text-align: center\;"><span cl
 ass="OYPEnA font-feature-liga-off font-feature-clig-off font-feature-calt-o
 ff text-decoration-none text-strikethrough-none">WashU Medicine Farrell Lea
 rning & Teaching Center - Connor Auditorium </span></h5><h3 style="text-ali
 gn: center\;">Featured Speakers:</h3><p style="text-align: center\;"><stron
 g><em>34th Annual Distinguished Alumnus Award Recipient</em></strong><br />
 <a href="https://med.umn.edu/bio/collin-mcclelland"><strong>Collin McClella
 nd\, MD</strong>\, Associate Professor\, University of Minnesota</a></p><p 
 style="text-align: center\;"><a href="https://bascompalmer-doctors.umiamihe
 alth.org/provider/ta-chen-peter-chang/526127?unified=chang&categories=prima
 ry_care%2Cpractice_group%2Cspecialties%2Cclinical_keywords%2Cprovider_name&
 sort=relevance%2Cnetworks&from=search-list"><strong>Peter Chang\, MD</stron
 g>\, Professor of Clinical Ophthalmology\, Bascom Palmer Eye Institute</a><
 /p><p style="text-align: center\;"><a href="https://www.pennmedicine.org/pr
 oviders/profile/bennie-jeng?fadf=PennMedicine"><strong>Bennie Jeng\, MD</st
 rong>\, William F. Norris and George E. de Schweinitz Professor and Chair D
 epartment of Ophthalmology University of Pennsylvania</a></p><p style="text
 -align: center\;"><a href="https://profiles.utsouthwestern.edu/profile/2097
 91/j-william-harbour.html"><strong>William Harbour\, MD</strong>\, The Davi
 d Bruton\, Jr. Professor and Chair in Ophthalmology\, UT Southwestern Medic
 al Center</a></p><p> </p><p class="disclaimer lead" style="text-align: cent
 er\;"><em><a class="button-primary" href="https://cme.wustl.edu/activity/23
 525">Register now</a></em></p><p style="text-align: center\;"><a class="but
 ton-primary" href="https://www.canva.com/design/DAGe_wcGv_Q/sOc50DYwKyiuA7W
 V_ClseQ/view?utm_content=DAGe_wcGv_Q&utm_campaign=designshare&utm_medium=li
 nk2&utm_source=uniquelinks&utlId=hb68c5962d1">View agenda</a></p><p> </p>
CATEGORIES:All,Alumni,Special Seminar,Visiting Professor
LOCATION:Connor Auditorium- Farrell Learning and Teaching Center
GEO:38.636032;-90.262806
ORGANIZER;CN="Katy":MAILTO:kpaglusch@wustl.edu
URL;VALUE=URI:https://ophthalmology.wustl.edu/calendar/event/36th-annual-op
 hthalmology-spring-update/
ATTACH;FMTTYPE=image/png:https://ophthalmology.wustl.edu/app/uploads/2025/01/Spring-Update-2025-1.png
END:VEVENT
BEGIN:VTIMEZONE
TZID:America/Chicago
BEGIN:DAYLIGHT
TZOFFSETFROM:-0600
TZOFFSETTO:-0500
DTSTART:20250309T080000
TZNAME:CDT
END:DAYLIGHT
END:VTIMEZONE
END:VCALENDAR
