BEGIN:VCALENDAR
VERSION:2.0
PRODID:-//Ophthalmology &amp; Visual Sciences//NONSGML Events//EN
CALSCALE:GREGORIAN
X-ORIGINAL-URL:https://ophthalmology.wustl.edu/calendar/
X-WR-CALDESC:Ophthalmology &amp; Visual Sciences - Events
BEGIN:VEVENT
UID:20210928T0443Z-1632804191.3258-EO-8381-1@172.23.128.18
STATUS:CONFIRMED
DTSTAMP:20260424T181101Z
CREATED:20200814T210122Z
LAST-MODIFIED:20210322T160407Z
DTSTART;TZID=America/Chicago:20210415T160000
DTEND;TZID=America/Chicago:20210415T170000
SUMMARY: 5th Annual David C. Beebe Lectureship-CANCELLED!
DESCRIPTION: 5th Annual David C. Beebe Lectureship CANCELLED! Presented by 
 Seth Blackshaw\, PhD Professor of Neuroscience Johns Hopkins University
X-ALT-DESC;FMTTYPE=text/html: <h4 style="text-align: center\;"><b>5</b><b>t
 h</b><b> Annual David C. Beebe Lectureship</b></h4><h2 style="text-align: c
 enter\;">CANCELLED!</h2><p style="text-align: center\;">Presented by</p><p 
 style="text-align: center\;"><a href="https://www.hopkinsmedicine.org/profi
 les/results/directory/profile/2133302/seth-blackshaw">Seth Blackshaw\, PhD<
 /a></p><p style="text-align: center\;"><strong>Professor of Neuroscience</s
 trong></p><p style="text-align: center\;"><strong>Johns Hopkins University<
 /strong></p><h3 style="text-align: center\;"></h3>
CATEGORIES:All,Special Seminar,Vision Science Seminar,Visiting Professor
LOCATION:Zoom Platform
GEO:41.875562;-87.624421
ORGANIZER;CN="Macey":MAILTO:macey.alexander@wustl.edu
URL;VALUE=URI:https://ophthalmology.wustl.edu/calendar/event/5th-annual-dav
 id-c-beebe-lectureship/
END:VEVENT
BEGIN:VTIMEZONE
TZID:America/Chicago
BEGIN:DAYLIGHT
TZOFFSETFROM:-0600
TZOFFSETTO:-0500
DTSTART:20210314T080000
TZNAME:CDT
END:DAYLIGHT
END:VTIMEZONE
END:VCALENDAR
