BEGIN:VCALENDAR
VERSION:2.0
PRODID:-//Ophthalmology &amp; Visual Sciences//NONSGML Events//EN
CALSCALE:GREGORIAN
X-ORIGINAL-URL:https://ophthalmology.wustl.edu/calendar/
X-WR-CALDESC:Ophthalmology &amp; Visual Sciences - Events
BEGIN:VEVENT
UID:20240820T1955Z-1724183734.3595-EO-24887-1@10.24.106.144
STATUS:CONFIRMED
DTSTAMP:20260419T055011Z
CREATED:20240820T191209Z
LAST-MODIFIED:20240820T191209Z
DTSTART;TZID=America/Chicago:20241019T180000
DTEND;TZID=America/Chicago:20241019T210000
SUMMARY: Alumni Reception 2024
DESCRIPTION: DATE: Saturday\, October 19\, 2024 TIME: 6:00 pm – 9:00 pm LOC
 ATION: Swissotel Chicago-Alpine 323 E. Wacker Dr.\, Chicago\, IL Come and g
 et reacquainted with classmates and colleagues.
X-ALT-DESC;FMTTYPE=text/html: <p><strong>DATE:</strong> Saturday\, October 
 19\, 2024</p><p><strong>TIME: </strong>6:00 pm - 9:00 pm</p><p><strong>LOCA
 TION:</strong> Swissotel Chicago-Alpine<br />323 E. Wacker Dr.\, Chicago\, 
 IL</p><p>Come and get reacquainted with classmates and colleagues.</p>
CATEGORIES:All,Alumni,Featured,Social
LOCATION:Swissotel Chicago-Alpine
GEO:41.887345;-87.619526
ORGANIZER;CN="Katherine":MAILTO:fitzpatrick@wustl.edu
URL;VALUE=URI:https://ophthalmology.wustl.edu/calendar/event/alumni-recepti
 on-2024/
END:VEVENT
BEGIN:VTIMEZONE
TZID:America/Chicago
BEGIN:DAYLIGHT
TZOFFSETFROM:-0600
TZOFFSETTO:-0500
DTSTART:20240310T080000
TZNAME:CDT
END:DAYLIGHT
END:VTIMEZONE
END:VCALENDAR
