BEGIN:VCALENDAR
VERSION:2.0
PRODID:-//Ophthalmology &amp; Visual Sciences//NONSGML Events//EN
CALSCALE:GREGORIAN
X-ORIGINAL-URL:https://ophthalmology.wustl.edu/calendar/
X-WR-CALDESC:Ophthalmology &amp; Visual Sciences - Events
BEGIN:VEVENT
UID:20210928T0441Z-1632804081.1802-EO-6707-1@172.23.128.18
STATUS:CONFIRMED
DTSTAMP:20260424T055844Z
CREATED:20200421T165325Z
LAST-MODIFIED:20200421T165325Z
DTSTART;TZID=America/Chicago:20200226T170000
DTEND;TZID=America/Chicago:20200226T180000
SUMMARY: Enoch  Lectureship
DESCRIPTION: Vision Science Seminar Enoch Lectureship Presented by Joseph C
 arroll\, PhD Richard O. Schultz\, MD/ Ruth Works Professor in Ophthalmology
  Medical College of Wisconsin “Applications of High-Resolution Retinal Imag
 ing”
X-ALT-DESC;FMTTYPE=text/html: <h4 style="text-align: center\;"><strong>Visi
 on Science Seminar</strong></h4><p style="text-align: center\;"><strong>Eno
 ch Lectureship</strong></p><p style="text-align: center\;">Presented by</p>
 <p style="text-align: center\;"><a href="https://www.mcw.edu/departments/op
 hthalmology-eye-institute/faculty/joseph-carroll-phd">Joseph Carroll\, PhD<
 /a></p><p style="text-align: center\;">Richard O. Schultz\, MD/ Ruth Works 
 Professor in Ophthalmology</p><p style="text-align: center\;">Medical Colle
 ge of Wisconsin</p><p style="text-align: center\;">"Applications of High-Re
 solution Retinal Imaging"</p>
CATEGORIES:All,Vision Science Seminar,Visiting Professor
LOCATION:BJH East Pavilion
GEO:38.637343;-90.264325
ORGANIZER;CN="Zach":MAILTO:zflauaus@wustl.edu
URL;VALUE=URI:https://ophthalmology.wustl.edu/calendar/event/enoch-lectures
 hip/
END:VEVENT
BEGIN:VTIMEZONE
TZID:America/Chicago
BEGIN:STANDARD
TZOFFSETFROM:-0500
TZOFFSETTO:-0600
DTSTART:20191103T070000
TZNAME:CST
END:STANDARD
END:VTIMEZONE
END:VCALENDAR
