BEGIN:VCALENDAR
VERSION:2.0
PRODID:-//Ophthalmology &amp; Visual Sciences//NONSGML Events//EN
CALSCALE:GREGORIAN
X-ORIGINAL-URL:https://ophthalmology.wustl.edu/calendar/
X-WR-CALDESC:Ophthalmology &amp; Visual Sciences - Events
BEGIN:VEVENT
UID:20211010T0348Z-1633837697.1528-EO-6748-1@172.23.128.19
STATUS:CONFIRMED
DTSTAMP:20260423T212120Z
CREATED:20200421T165326Z
LAST-MODIFIED:20200421T165326Z
DTSTART;TZID=America/Chicago:20191205T160000
DTEND;TZID=America/Chicago:20191205T171500
SUMMARY: Graduate Course
DESCRIPTION: Instructor : J Banks Shepherd III\, MD   Topic : Glaucoma and 
 ganglion cell neuropathies
X-ALT-DESC;FMTTYPE=text/html: <h3>Instructor : <a href="https://wuphysician
 s.wustl.edu/for-patients/find-a-physician/james-b-shepherd-iii">J Banks She
 pherd III</a>\, MD</h3><p> </p><p><em>Topic : Glaucoma and ganglion cell ne
 uropathies</em></p>
CATEGORIES:All,Graduate Course
LOCATION:Maternity Building 7th floor Conference room 725
GEO:38.636054;-90.263014
ORGANIZER;CN="Zach":MAILTO:zflauaus@wustl.edu
URL;VALUE=URI:https://ophthalmology.wustl.edu/calendar/event/graduate-cours
 e-2/
END:VEVENT
BEGIN:VTIMEZONE
TZID:America/Chicago
BEGIN:STANDARD
TZOFFSETFROM:-0500
TZOFFSETTO:-0600
DTSTART:20191103T070000
TZNAME:CST
END:STANDARD
END:VTIMEZONE
END:VCALENDAR
