BEGIN:VCALENDAR
VERSION:2.0
PRODID:-//Ophthalmology &amp; Visual Sciences//NONSGML Events//EN
CALSCALE:GREGORIAN
X-ORIGINAL-URL:https://ophthalmology.wustl.edu/calendar/
X-WR-CALDESC:Ophthalmology &amp; Visual Sciences - Events
BEGIN:VEVENT
UID:20211010T0401Z-1633838512.8614-EO-6769-1@172.23.128.19
STATUS:CONFIRMED
DTSTAMP:20260424T201039Z
CREATED:20200421T165327Z
LAST-MODIFIED:20200421T165327Z
DTSTART;TZID=America/Chicago:20190910T171500
DTEND;TZID=America/Chicago:20190910T183000
SUMMARY: Graduate Course
DESCRIPTION: Instructor : Andrew Huang MD   Topic: Cornea II: Stem cells an
 d corneal renewal
X-ALT-DESC;FMTTYPE=text/html: <h3><strong>Instructor : <a href="https://oph
 thalmology.wustl.edu/items/huang-lab/">Andrew Huang</a> MD</strong></h3><p>
  </p><p><em>Topic: Cornea II: Stem cells and corneal renewal</em></p>
CATEGORIES:All,Graduate Course
LOCATION:Maternity Building 7th floor Conference room 725
GEO:38.636054;-90.263014
ORGANIZER;CN="Zach":MAILTO:zflauaus@wustl.edu
URL;VALUE=URI:https://ophthalmology.wustl.edu/calendar/event/graduate-cours
 e-23/
END:VEVENT
BEGIN:VTIMEZONE
TZID:America/Chicago
BEGIN:DAYLIGHT
TZOFFSETFROM:-0600
TZOFFSETTO:-0500
DTSTART:20190310T080000
TZNAME:CDT
END:DAYLIGHT
END:VTIMEZONE
END:VCALENDAR
