BEGIN:VCALENDAR
VERSION:2.0
PRODID:-//Ophthalmology &amp; Visual Sciences//NONSGML Events//EN
CALSCALE:GREGORIAN
X-ORIGINAL-URL:https://ophthalmology.wustl.edu/calendar/
X-WR-CALDESC:Ophthalmology &amp; Visual Sciences - Events
BEGIN:VEVENT
UID:20211010T0348Z-1633837717.3184-EO-6749-1@172.23.128.19
STATUS:CONFIRMED
DTSTAMP:20260424T200914Z
CREATED:20200421T165326Z
LAST-MODIFIED:20200421T165326Z
DTSTART;TZID=America/Chicago:20191203T171500
DTEND;TZID=America/Chicago:20191203T183000
SUMMARY: Graduate Course
DESCRIPTION: Instructor : Andreas Burkhalter\, PhD   Topic : Central visual
  pathways – part II  
X-ALT-DESC;FMTTYPE=text/html: <h3>Instructor : <a href="http://neurosci.wus
 tl.edu/People/Faculty/andreas-burkhalter">Andreas Burkhalter</a>\, PhD</h3>
 <p> </p><p><em>Topic : Central visual pathways - part II</em></p><p> </p>
CATEGORIES:All,Graduate Course
LOCATION:Maternity Building 7th floor Conference room 725
GEO:38.636054;-90.263014
ORGANIZER;CN="Zach":MAILTO:zflauaus@wustl.edu
URL;VALUE=URI:https://ophthalmology.wustl.edu/calendar/event/graduate-cours
 e-3/
END:VEVENT
BEGIN:VTIMEZONE
TZID:America/Chicago
BEGIN:STANDARD
TZOFFSETFROM:-0500
TZOFFSETTO:-0600
DTSTART:20191103T070000
TZNAME:CST
END:STANDARD
END:VTIMEZONE
END:VCALENDAR
