BEGIN:VCALENDAR
VERSION:2.0
PRODID:-//Ophthalmology &amp; Visual Sciences//NONSGML Events//EN
CALSCALE:GREGORIAN
X-ORIGINAL-URL:https://ophthalmology.wustl.edu/calendar/
X-WR-CALDESC:Ophthalmology &amp; Visual Sciences - Events
BEGIN:VEVENT
UID:20211010T0347Z-1633837676.3187-EO-6747-1@172.23.128.19
STATUS:CONFIRMED
DTSTAMP:20260425T211927Z
CREATED:20200421T165326Z
LAST-MODIFIED:20200421T165326Z
DTSTART;TZID=America/Chicago:20191210T171500
DTEND;TZID=America/Chicago:20191210T183000
SUMMARY: Graduate Course
DESCRIPTION: Instructor : Gregory Van Stavern\, MD   Topic: Central visual 
 pathways – pathology
X-ALT-DESC;FMTTYPE=text/html: <h3>Instructor : <a href="https://ophthalmolo
 gy.wustl.edu/items/van-stavern-lab/">Gregory Van Stavern</a>\, MD</h3><p> <
 /p><p><em>Topic: Central visual pathways - pathology</em></p>
CATEGORIES:All,Graduate Course
LOCATION:Maternity Building 7th floor Conference room 725
GEO:38.636054;-90.263014
ORGANIZER;CN="Zach":MAILTO:zflauaus@wustl.edu
URL;VALUE=URI:https://ophthalmology.wustl.edu/calendar/event/graduate-cours
 e/
END:VEVENT
BEGIN:VTIMEZONE
TZID:America/Chicago
BEGIN:STANDARD
TZOFFSETFROM:-0500
TZOFFSETTO:-0600
DTSTART:20191103T070000
TZNAME:CST
END:STANDARD
END:VTIMEZONE
END:VCALENDAR
