BEGIN:VCALENDAR
VERSION:2.0
PRODID:-//Ophthalmology &amp; Visual Sciences//NONSGML Events//EN
CALSCALE:GREGORIAN
X-ORIGINAL-URL:https://ophthalmology.wustl.edu/calendar/
X-WR-CALDESC:Ophthalmology &amp; Visual Sciences - Events
BEGIN:VEVENT
UID:20211010T0335Z-1633836935.0011-EO-6702-1@172.23.128.19
STATUS:CONFIRMED
DTSTAMP:20260424T201042Z
CREATED:20200421T165325Z
LAST-MODIFIED:20200421T165325Z
DTSTART;TZID=America/Chicago:20200415T160000
DTEND;TZID=America/Chicago:20200415T170000
SUMMARY: Grand Rounds
DESCRIPTION: Ophthalmology and Visual Sciences Grand Rounds (online only vi
 a Zoom) presented by Robi Maamari Department of Ophthalmology and Visual Sc
 iences Oculoplastics Fellow “Zooming In on Clinicoradiologic Correlations” 
 and Philip Custer\, MD\, FACS Professor\, Ophthalmology and Visual Sciences
  “Avoiding Pitfalls in Orbital Imaging”
X-ALT-DESC;FMTTYPE=text/html: <h4 style="text-align: center\;"><strong>Opht
 halmology and Visual Sciences Grand Round</strong>s</h4><h4 style="text-ali
 gn: center\;">(online only via Zoom)</h4><p style="text-align: center\;">pr
 esented by</p><p style="text-align: center\;"><a href="https://ophthalmolog
 y.wustl.edu/people/robi-maamari-md/">Robi Maamari</a></p><p style="text-ali
 gn: center\;"><span>Department of Ophthalmology and Visual Sciences Oculopl
 astics Fellow</span></p><p style="text-align: center\;"><span>"Zooming In o
 n Clinicoradiologic Correlations"</span></p><p style="text-align: center\;"
 >and</p><p style="text-align: center\;"><a href="https://wuphysicians.wustl
 .edu/for-patients/find-a-physician/philip-l-custer">Philip Custer\, MD\, FA
 CS</a></p><p style="text-align: center\;"><span>Professor\, Ophthalmology a
 nd Visual Sciences</span></p><p style="text-align: center\;"><span>"Avoidin
 g Pitfalls in Orbital Imaging"</span></p>
CATEGORIES:All,Grand Rounds
LOCATION:Zoom Platform (link in event details)
GEO:0.000000;0.000000
ORGANIZER;CN="Zach":MAILTO:zflauaus@wustl.edu
URL;VALUE=URI:https://ophthalmology.wustl.edu/calendar/event/grand-rounds-1
 1/
END:VEVENT
BEGIN:VTIMEZONE
TZID:America/Chicago
BEGIN:DAYLIGHT
TZOFFSETFROM:-0600
TZOFFSETTO:-0500
DTSTART:20200308T080000
TZNAME:CDT
END:DAYLIGHT
END:VTIMEZONE
END:VCALENDAR
