BEGIN:VCALENDAR
VERSION:2.0
PRODID:-//Ophthalmology &amp; Visual Sciences//NONSGML Events//EN
CALSCALE:GREGORIAN
X-ORIGINAL-URL:https://ophthalmology.wustl.edu/calendar/
X-WR-CALDESC:Ophthalmology &amp; Visual Sciences - Events
BEGIN:VEVENT
UID:20211010T0339Z-1633837170.8729-EO-6709-1@172.23.128.19
STATUS:CONFIRMED
DTSTAMP:20260425T210530Z
CREATED:20200421T165325Z
LAST-MODIFIED:20200421T165325Z
DTSTART;TZID=America/Chicago:20200226T070000
DTEND;TZID=America/Chicago:20200226T080000
SUMMARY: Grand Rounds
DESCRIPTION: Ophthalmology and Visual Sciences Grand Rounds presented by P.
  Kumar Rao\, MD Professor\, Ophthalmology and Visual Sciences “I Don’t Know
  What It Is\, but It’s Getting Worse” and Harris Sultan\, MD Department of 
 Ophthalmology and Visual Sciences Second Year Fellow âVitreous Microparti
 cles in Diabetic Eye Disease Contain Apoptotic Signals Suggesting a Diabeti
 c Vitreopathyâ
X-ALT-DESC;FMTTYPE=text/html: <h4 style="text-align: center\;">Ophthalmolog
 y and Visual Sciences Grand Rounds</h4><p style="text-align: center\;">pres
 ented by</p><p style="text-align: center\;"><a href="https://ophthalmology.
 wustl.edu/people/p-kumar-rao-md/">P. Kumar Rao\, MD </a></p><p style="text-
 align: center\;">Professor\, Ophthalmology and Visual Sciences</p><p style=
 "text-align: center\;">"I Don't Know What It Is\, but It's Getting Worse"</
 p><p style="text-align: center\;">and</p><p style="text-align: center\;"><a
  href="https://ophthalmology.wustl.edu/people/harris-sultan-md/">Harris Sul
 tan\, MD </a></p><p style="text-align: center\;"><span>Department of Ophtha
 lmology and Visual Sciences Second Year Fellow</span></p><p style="text-ali
 gn: center\;">âVitreous Microparticles in Diabetic Eye Disease Contain Ap
 optotic Signals Suggesting a Diabetic Vitreopathyâ</p>
CATEGORIES:All,Grand Rounds
LOCATION:Zoom Platform (link in event details)
GEO:0.000000;0.000000
ORGANIZER;CN="Zach":MAILTO:zflauaus@wustl.edu
URL;VALUE=URI:https://ophthalmology.wustl.edu/calendar/event/grand-rounds-1
 4/
END:VEVENT
BEGIN:VTIMEZONE
TZID:America/Chicago
BEGIN:STANDARD
TZOFFSETFROM:-0500
TZOFFSETTO:-0600
DTSTART:20191103T070000
TZNAME:CST
END:STANDARD
END:VTIMEZONE
END:VCALENDAR
