BEGIN:VCALENDAR
VERSION:2.0
PRODID:-//Ophthalmology &amp; Visual Sciences//NONSGML Events//EN
CALSCALE:GREGORIAN
X-ORIGINAL-URL:https://ophthalmology.wustl.edu/calendar/
X-WR-CALDESC:Ophthalmology &amp; Visual Sciences - Events
BEGIN:VEVENT
UID:20211005T2353Z-1633478014.3128-EO-6710-1@172.23.128.19
STATUS:CONFIRMED
DTSTAMP:20260425T192952Z
CREATED:20200421T165325Z
LAST-MODIFIED:20200427T163755Z
DTSTART;TZID=America/Chicago:20200219T070000
DTEND;TZID=America/Chicago:20200219T080000
SUMMARY: Grand Rounds
DESCRIPTION: Ophthalmology and Visual Sciences Grand Rounds Presented by Ci
 ndy Montana\, MD\, PhD Instructor\, Ophthalmology and Visual Sciences\, Dir
 ector University Eye Service “Trainee Surgeon: The Elephant in the Room” an
 d Karen Hong MD\, MPhil Second Year Resident\, DOVS “Trainee Surgeon: The E
 lephant in the Room”
X-ALT-DESC;FMTTYPE=text/html: <h4 style="text-align: center\;">Ophthalmolog
 y and Visual Sciences Grand Rounds</h4><p style="text-align: center\;"><spa
 n> Presented by </span></p><p style="text-align: center\;"><span><a href="h
 ttps://ophthalmology.wustl.edu/people/cynthia-montana-md-phd/">Cindy Montan
 a\, MD\, PhD</a></span></p><p style="text-align: center\;"><span>Instructor
 \, Ophthalmology and Visual Sciences\, Director University Eye Service</spa
 n></p><p style="text-align: center\;">"Trainee Surgeon: The Elephant in the
  Room"</p><p style="text-align: center\;"><span>and</span></p><p style="tex
 t-align: center\;"><a href="https://ophthalmology.wustl.edu/people/karen-ho
 ng-md-mphil/">Karen Hong MD\, MPhil</a></p><p style="text-align: center\;">
 <span>Second Year Resident\, DOVS</span></p><p style="text-align: center\;"
 >"Trainee Surgeon: The Elephant in the Room"</p>
CATEGORIES:All,Grand Rounds
LOCATION:Zoom Platform (link in event details)
GEO:0.000000;0.000000
ORGANIZER;CN="Zach":MAILTO:zflauaus@wustl.edu
URL;VALUE=URI:https://ophthalmology.wustl.edu/calendar/event/grand-rounds-1
 5/
END:VEVENT
BEGIN:VTIMEZONE
TZID:America/Chicago
BEGIN:STANDARD
TZOFFSETFROM:-0500
TZOFFSETTO:-0600
DTSTART:20191103T070000
TZNAME:CST
END:STANDARD
END:VTIMEZONE
END:VCALENDAR
