BEGIN:VCALENDAR
VERSION:2.0
PRODID:-//Ophthalmology &amp; Visual Sciences//NONSGML Events//EN
CALSCALE:GREGORIAN
X-ORIGINAL-URL:https://ophthalmology.wustl.edu/calendar/
X-WR-CALDESC:Ophthalmology &amp; Visual Sciences - Events
BEGIN:VEVENT
UID:20211008T1159Z-1633694357.5192-EO-6711-1@172.23.128.19
STATUS:CONFIRMED
DTSTAMP:20260425T194100Z
CREATED:20200421T165325Z
LAST-MODIFIED:20200421T165325Z
DTSTART;TZID=America/Chicago:20200212T070000
DTEND;TZID=America/Chicago:20200212T080000
SUMMARY: Grand Rounds
DESCRIPTION: Ophthalmology and Visual Sciences Grand Rounds Presented by Gr
 egg Lueder\, MD Professor\, Ophthalmology and Visual Sciences\, and Pediatr
 ics âIâm So Glad We Had This Time Togetherâ and Matthew Santos\, MD F
 irst Year Resident\, DOVS âTurn Around Bright Eyes: Infantile Nystagmus\,
  Head Turn and Tiltâ
X-ALT-DESC;FMTTYPE=text/html: <h4 style="text-align: center\;">Ophthalmolog
 y and Visual Sciences Grand Rounds</h4><p style="text-align: center\;"><spa
 n>Presented by </span></p><p style="text-align: center\;"><a href="https://
 ophthalmology.wustl.edu/people/gregg-lueder-md/"><span>Gregg Lueder\, MD </
 span></a></p><p style="text-align: center\;"><span>Professor\, Ophthalmolog
 y and Visual Sciences\, and Pediatrics</span></p><p style="text-align: cent
 er\;">âIâm So Glad We Had This Time Togetherâ</p><p style="text-align
 : center\;"><span>and </span></p><p style="text-align: center\;"><a href="h
 ttps://ophthalmology.wustl.edu/people/matthew-santos-md/"><span>Matthew San
 tos\, MD</span></a></p><p style="text-align: center\;"><span>First Year Res
 ident\, DOVS</span></p><p style="text-align: center\;">âTurn Around Brigh
 t Eyes: Infantile Nystagmus\, Head Turn and Tiltâ</p>
CATEGORIES:All,Grand Rounds
LOCATION:Zoom Platform (link in event details)
GEO:0.000000;0.000000
ORGANIZER;CN="Zach":MAILTO:zflauaus@wustl.edu
URL;VALUE=URI:https://ophthalmology.wustl.edu/calendar/event/grand-rounds-1
 6/
END:VEVENT
BEGIN:VTIMEZONE
TZID:America/Chicago
BEGIN:STANDARD
TZOFFSETFROM:-0500
TZOFFSETTO:-0600
DTSTART:20191103T070000
TZNAME:CST
END:STANDARD
END:VTIMEZONE
END:VCALENDAR
