BEGIN:VCALENDAR
VERSION:2.0
PRODID:-//Ophthalmology &amp; Visual Sciences//NONSGML Events//EN
CALSCALE:GREGORIAN
X-ORIGINAL-URL:https://ophthalmology.wustl.edu/calendar/
X-WR-CALDESC:Ophthalmology &amp; Visual Sciences - Events
BEGIN:VEVENT
UID:20211010T0342Z-1633837341.4995-EO-6712-1@172.23.128.19
STATUS:CONFIRMED
DTSTAMP:20260425T174521Z
CREATED:20200421T165325Z
LAST-MODIFIED:20200421T165325Z
DTSTART;TZID=America/Chicago:20200205T070000
DTEND;TZID=America/Chicago:20200205T080000
SUMMARY: Grand Rounds
DESCRIPTION: Ophthalmology and Visual Sciences Grand Rounds Presented by Ki
 sha Piggott\, MD\, PhD Assistant Professor\, Ophthalmology and Visual Scien
 ces Assistant Residency Program Director “Making the Right Decision in Uvea
 lÂ  Melanoma” and Brigid Marshall\, MD Department of Ophthalmology and Visu
 al Sciences Fellow “Intraocular Surgery in Eyes with Uveal Melanoma”
X-ALT-DESC;FMTTYPE=text/html: <h4 style="text-align: center\;">Ophthalmolog
 y and Visual Sciences Grand Rounds</h4><p style="text-align: center\;"><spa
 n style="font-size: 1.125rem\;">Presented by</span></p><p style="text-align
 : center\;"><a href="https://ophthalmology.wustl.edu/people/kisha-piggott-m
 d-phd/"><span>Kisha Piggott\, MD\, PhD </span></a></p><p style="text-align:
  center\;"><span>Assistant Professor\, Ophthalmology and Visual Sciences As
 sistant Residency Program Director</span></p><p style="text-align: center\;
 ">"Making the Right Decision in UvealÂ  Melanoma"</p><p style="text-align: 
 center\;"><span>and </span></p><p style="text-align: center\;"><a href="htt
 ps://ophthalmology.wustl.edu/people/brigid-marshall-md/"><span>Brigid Marsh
 all\, MD </span></a></p><p style="text-align: center\;"><span>Department of
  Ophthalmology and Visual Sciences Fellow</span></p><p style="text-align: c
 enter\;">"Intraocular Surgery in Eyes with Uveal Melanoma"</p><p style="tex
 t-align: center\;">
CATEGORIES:All,Grand Rounds
LOCATION:Zoom Platform (link in event details)
GEO:0.000000;0.000000
ORGANIZER;CN="Zach":MAILTO:zflauaus@wustl.edu
URL;VALUE=URI:https://ophthalmology.wustl.edu/calendar/event/grand-rounds-1
 7/
END:VEVENT
BEGIN:VTIMEZONE
TZID:America/Chicago
BEGIN:STANDARD
TZOFFSETFROM:-0500
TZOFFSETTO:-0600
DTSTART:20191103T070000
TZNAME:CST
END:STANDARD
END:VTIMEZONE
END:VCALENDAR
