BEGIN:VCALENDAR
VERSION:2.0
PRODID:-//Ophthalmology &amp; Visual Sciences//NONSGML Events//EN
CALSCALE:GREGORIAN
X-ORIGINAL-URL:https://ophthalmology.wustl.edu/calendar/
X-WR-CALDESC:Ophthalmology &amp; Visual Sciences - Events
BEGIN:VEVENT
UID:20211010T0342Z-1633837370.3774-EO-6713-1@172.23.128.19
STATUS:CONFIRMED
DTSTAMP:20260425T194100Z
CREATED:20200421T165325Z
LAST-MODIFIED:20200421T165325Z
DTSTART;TZID=America/Chicago:20200129T070000
DTEND;TZID=America/Chicago:20200129T080000
SUMMARY: Grand Rounds
DESCRIPTION: Ophthalmology and Visual Sciences Grand Rounds Presented by Ri
 thwick Rajagopal\, MD\, PhD Assistant Professor\, Ophthalmology and Visual 
 Sciences “Diabetes\, Glaucoma and Retinopathy” and Bliss O’Bryhim\, MD\, Ph
 D Department of Ophthalmology and Visual Sciences Fellow “Diabetes and Glau
 coma: Lessons from World Geography”
X-ALT-DESC;FMTTYPE=text/html: <h4 style="text-align: center\;">Ophthalmolog
 y and Visual Sciences Grand Rounds</h4><p style="text-align: center\;"><spa
 n>Presented by </span></p><p style="text-align: center\;"><a href="https://
 ophthalmology.wustl.edu/people/rithwick-rajagopal-md-phd/"><span>Rithwick R
 ajagopal\, MD\, PhD</span></a></p><p style="text-align: center\;"><span> As
 sistant Professor\, Ophthalmology and Visual Sciences</span></p><p style="t
 ext-align: center\;">"Diabetes\, Glaucoma and Retinopathy"</p><p style="tex
 t-align: center\;"><span>and </span></p><p style="text-align: center\;"><a 
 href="https://ophthalmology.wustl.edu/people/bliss-obryhim-md-phd/"><span>B
 liss O'Bryhim\, MD\, PhD </span></a></p><p style="text-align: center\;"><sp
 an>Department of Ophthalmology and Visual Sciences Fellow</span></p><p styl
 e="text-align: center\;">"Diabetes and Glaucoma: Lessons from World Geograp
 hy"</p>
CATEGORIES:All,Grand Rounds
LOCATION:Zoom Platform (link in event details)
GEO:0.000000;0.000000
ORGANIZER;CN="Zach":MAILTO:zflauaus@wustl.edu
URL;VALUE=URI:https://ophthalmology.wustl.edu/calendar/event/grand-rounds-1
 8/
END:VEVENT
BEGIN:VTIMEZONE
TZID:America/Chicago
BEGIN:STANDARD
TZOFFSETFROM:-0500
TZOFFSETTO:-0600
DTSTART:20191103T070000
TZNAME:CST
END:STANDARD
END:VTIMEZONE
END:VCALENDAR
