BEGIN:VCALENDAR
VERSION:2.0
PRODID:-//Ophthalmology &amp; Visual Sciences//NONSGML Events//EN
CALSCALE:GREGORIAN
X-ORIGINAL-URL:https://ophthalmology.wustl.edu/calendar/
X-WR-CALDESC:Ophthalmology &amp; Visual Sciences - Events
BEGIN:VEVENT
UID:20211010T0343Z-1633837398.9116-EO-6714-1@172.23.128.19
STATUS:CONFIRMED
DTSTAMP:20260425T222639Z
CREATED:20200421T165325Z
LAST-MODIFIED:20200421T165325Z
DTSTART;TZID=America/Chicago:20200122T070000
DTEND;TZID=America/Chicago:20200122T080000
SUMMARY: Grand Rounds
DESCRIPTION: Ophthalmology and Visual Sciences Grand Rounds Presented by To
 dd Margolis\, MD\, PhD Alan A. and Edith L. Wolff Distinguished Professor a
 nd Chairman\, Ophthalmology and Visual Sciences “Some Dry Thoughts about Oc
 ular Pain”
X-ALT-DESC;FMTTYPE=text/html: <h4 style="text-align: center\;">Ophthalmolog
 y and Visual Sciences Grand Rounds</h4><p style="text-align: center\;"><spa
 n>Presented by </span></p><p style="text-align: center\;"><a href="https://
 ophthalmology.wustl.edu/people/todd-margolis-md-phd/"><span>Todd Margolis\,
  MD\, PhD </span></a></p><p style="text-align: center\;"><span>Alan A. and 
 Edith L. Wolff Distinguished Professor and Chairman\, Ophthalmology and Vis
 ual Sciences</span></p><p style="text-align: center\;">"Some Dry Thoughts a
 bout Ocular Pain"</p>
CATEGORIES:All,Grand Rounds
LOCATION:Zoom Platform (link in event details)
GEO:0.000000;0.000000
ORGANIZER;CN="Zach":MAILTO:zflauaus@wustl.edu
URL;VALUE=URI:https://ophthalmology.wustl.edu/calendar/event/grand-rounds-1
 9/
END:VEVENT
BEGIN:VTIMEZONE
TZID:America/Chicago
BEGIN:STANDARD
TZOFFSETFROM:-0500
TZOFFSETTO:-0600
DTSTART:20191103T070000
TZNAME:CST
END:STANDARD
END:VTIMEZONE
END:VCALENDAR
