BEGIN:VCALENDAR
VERSION:2.0
PRODID:-//Ophthalmology &amp; Visual Sciences//NONSGML Events//EN
CALSCALE:GREGORIAN
X-ORIGINAL-URL:https://ophthalmology.wustl.edu/calendar/
X-WR-CALDESC:Ophthalmology &amp; Visual Sciences - Events
BEGIN:VEVENT
UID:20211010T0326Z-1633836382.1732-EO-6692-1@172.23.128.19
STATUS:CONFIRMED
DTSTAMP:20260424T201030Z
CREATED:20200421T165324Z
LAST-MODIFIED:20201106T220158Z
DTSTART;TZID=America/Chicago:20200923T070000
DTEND;TZID=America/Chicago:20200923T080000
SUMMARY: Grand Rounds
DESCRIPTION: Ophthalmology and Visual Sciences Grand Rounds presented by Ma
 tthew Santos\, MD Second Year Resident\, DOVS “‘Schrödinger’s Angle’ and Co
 gnitive Bias” and Arsham Sheybani\, MD Associate Professor\, Ophthalmology 
 and Visual Sciences\; Residency Program Director Fellowship Director Advanc
 ed Anterior Segment and Glaucoma Surgery “How to Manage Pigment Dispersion 
 Based on Current Evidence”   *See DOVS Newsletter or […]
X-ALT-DESC;FMTTYPE=text/html: <h4 style="text-align: center\;"><strong>Opht
 halmology and Visual Sciences Grand Rounds </strong></h4><p style="text-ali
 gn: center\;">presented by</p><p style="text-align: center\;"><a href="http
 s://ophthalmology.wustl.edu/people/matthew-santos-md/"><strong>Matthew Sant
 os\, MD</strong></a></p><p style="text-align: center\;">Second Year Residen
 t\, DOVS</p><p style="text-align: center\;">"'<span data-sheets-value="{"1"
 :2\,"2":"\\"Schrödinger's Angle\\" and Cognitive Bias"}" data-sheets-userfo
 rmat="{"2":5055\,"3":{"1":0}\,"4":{"1":2\,"2":14543863}\,"5":{"1":[{"1":2\,
 "2":0\,"5":{"1":2\,"2":0}}\,{"1":0\,"2":0\,"3":3}\,{"1":1\,"2":0\,"4":1}]}\
 ,"6":{"1":[{"1":2\,"2":0\,"5":{"1":2\,"2":0}}\,{"1":0\,"2":0\,"3":3}\,{"1":
 1\,"2":0\,"4":1}]}\,"7":{"1":[{"1":2\,"2":0\,"5":{"1":2\,"2":0}}\,{"1":0\,"
 2":0\,"3":3}\,{"1":1\,"2":0\,"4":1}]}\,"8":{"1":[{"1":2\,"2":0\,"5":{"1":2\
 ,"2":0}}\,{"1":0\,"2":0\,"3":3}\,{"1":1\,"2":0\,"4":1}]}\,"10":2\,"11":4\,"
 12":0\,"15":"arial\, sans\, sans-serif"}">Schrödinger's Angle' and Cognitiv
 e Bias"</span></p><p style="text-align: center\;">and</p><p style="text-ali
 gn: center\;"><a href="https://ophthalmology.wustl.edu/people/arsham-sheyba
 ni-md/"><strong>Arsham Sheybani\, MD</strong></a></p><p style="text-align: 
 center\;">Associate Professor\, Ophthalmology and Visual Sciences\; Residen
 cy Program Director Fellowship Director Advanced Anterior Segment and Glauc
 oma Surgery</p><p style="text-align: center\;"><span data-sheets-value="{"1
 ":2\,"2":"How to manage pigment dispersion based on current evidence"}" dat
 a-sheets-userformat="{"2":5052\,"5":{"1":[{"1":2\,"2":0\,"5":{"1":2\,"2":0}
 }\,{"1":0\,"2":0\,"3":3}\,{"1":1\,"2":0\,"4":1}]}\,"6":{"1":[{"1":2\,"2":0\
 ,"5":{"1":2\,"2":0}}\,{"1":0\,"2":0\,"3":3}\,{"1":1\,"2":0\,"4":1}]}\,"7":{
 "1":[{"1":2\,"2":0\,"5":{"1":2\,"2":0}}\,{"1":0\,"2":0\,"3":3}\,{"1":1\,"2"
 :0\,"4":1}]}\,"8":{"1":[{"1":2\,"2":0\,"5":{"1":2\,"2":0}}\,{"1":0\,"2":0\,
 "3":3}\,{"1":1\,"2":0\,"4":1}]}\,"10":2\,"11":4\,"12":0\,"15":"arial\, sans
 \, sans-serif"}">"How to Manage Pigment Dispersion Based on Current Evidenc
 e"</span></p><p> </p><p>*See DOVS Newsletter or DOVS Grand Rounds email for
  Zoom details.</p>
CATEGORIES:All,Grand Rounds
LOCATION:Zoom Virtual Platform
GEO:38.626845;-90.256594
ORGANIZER;CN="Olivia":MAILTO:ojensen@wustl.edu
URL;VALUE=URI:https://ophthalmology.wustl.edu/calendar/event/grand-rounds-2
 /
END:VEVENT
BEGIN:VTIMEZONE
TZID:America/Chicago
BEGIN:DAYLIGHT
TZOFFSETFROM:-0600
TZOFFSETTO:-0500
DTSTART:20200308T080000
TZNAME:CDT
END:DAYLIGHT
END:VTIMEZONE
END:VCALENDAR
