BEGIN:VCALENDAR
VERSION:2.0
PRODID:-//Ophthalmology &amp; Visual Sciences//NONSGML Events//EN
CALSCALE:GREGORIAN
X-ORIGINAL-URL:https://ophthalmology.wustl.edu/calendar/
X-WR-CALDESC:Ophthalmology &amp; Visual Sciences - Events
BEGIN:VEVENT
UID:20211010T0348Z-1633837707.6122-EO-6719-1@172.23.128.19
STATUS:CONFIRMED
DTSTAMP:20260425T194059Z
CREATED:20200421T165325Z
LAST-MODIFIED:20200421T165325Z
DTSTART;TZID=America/Chicago:20191204T070000
DTEND;TZID=America/Chicago:20191204T070000
SUMMARY: Grand Rounds
DESCRIPTION: Ophthalmology and Visual Sciences Grand Rounds Presented by Mi
 chael Kass\, MD Bernard Becker Professor\, Ophthalmology and Visual Science
 s “OHTS: 20 Year Follow-Up” and Janani Singaravelu\, MD Second Year DOVS Re
 sident “Prophylactic LPIs: Is the Case Closed or Are There Holes in the Arg
 ument?”
X-ALT-DESC;FMTTYPE=text/html: <h4 style="text-align: center\;">Ophthalmolog
 y and Visual Sciences Grand Rounds</h4><p style="text-align: center\;">Pres
 ented by</p><p style="text-align: center\;"><a href="https://ophthalmology.
 wustl.edu/people/michael-kass-md/">Michael Kass\, MD</a></p><p style="text-
 align: center\;"><span style="font-size: 1.125rem\;">Bernard Becker Profess
 or\, Ophthalmology and Visual Sciences</span></p><p style="text-align: cent
 er\;">"OHTS: 20 Year Follow-Up"</p><p style="text-align: center\;">and</p><
 p style="text-align: center\;"><a href="https://ophthalmology.wustl.edu/peo
 ple/janani-singaravelu-md/">Janani Singaravelu\, MD </a></p><p style="text-
 align: center\;">Second Year DOVS Resident</p><p style="text-align: center\
 ;">"Prophylactic LPIs: Is the Case Closed or Are There Holes in the Argumen
 t?"</p>
CATEGORIES:All,Grand Rounds
LOCATION:Zoom Platform (link in event details)
GEO:0.000000;0.000000
ORGANIZER;CN="Zach":MAILTO:zflauaus@wustl.edu
URL;VALUE=URI:https://ophthalmology.wustl.edu/calendar/event/grand-rounds-2
 3/
END:VEVENT
BEGIN:VTIMEZONE
TZID:America/Chicago
BEGIN:STANDARD
TZOFFSETFROM:-0500
TZOFFSETTO:-0600
DTSTART:20191103T070000
TZNAME:CST
END:STANDARD
END:VTIMEZONE
END:VCALENDAR
