BEGIN:VCALENDAR
VERSION:2.0
PRODID:-//Ophthalmology &amp; Visual Sciences//NONSGML Events//EN
CALSCALE:GREGORIAN
X-ORIGINAL-URL:https://ophthalmology.wustl.edu/calendar/
X-WR-CALDESC:Ophthalmology &amp; Visual Sciences - Events
BEGIN:VEVENT
UID:20211010T0351Z-1633837896.2881-EO-6725-1@172.23.128.19
STATUS:CONFIRMED
DTSTAMP:20260425T232855Z
CREATED:20200421T165325Z
LAST-MODIFIED:20200421T165325Z
DTSTART;TZID=America/Chicago:20191106T070000
DTEND;TZID=America/Chicago:20191106T080000
SUMMARY: Grand Rounds
DESCRIPTION: Ophthalmology and Visual Sciences Grand Rounds Presented by Ge
 orge Harocopos\, MD Associate Professor\, DOVS\, Pathology and Immunology\;
  Director\, Ophthalmic Surgery at the John Cochran Veterans Affairs Medical
  Center and Adam Baim\, MD\, PhD First Year Resident DOVS
X-ALT-DESC;FMTTYPE=text/html: <h4 style="text-align: center\;">Ophthalmolog
 y and Visual Sciences Grand Rounds</h4><p style="text-align: center\;"><spa
 n>Presented by </span></p><p style="text-align: center\;"><span><a href="ht
 tps://ophthalmology.wustl.edu/people/george-harocopos-md/">George Harocopos
 \, MD</a><br /></span></p><p style="text-align: center\;"><span>Associate P
 rofessor\, DOVS\, Pathology and Immunology\; </span></p><p style="text-alig
 n: center\;"><span>Director\, Ophthalmic Surgery at the John Cochran Vetera
 ns Affairs Medical Center</span></p><p style="text-align: center\;"><span>a
 nd </span></p><p style="text-align: center\;"><span><a href="https://ophtha
 lmology.wustl.edu/people/adam-baim-md-phd/">Adam Baim\, MD\, PhD</a> </span
 ></p><p style="text-align: center\;"><span>First Year Resident DOVS<br /></
 span></p>
CATEGORIES:All,Grand Rounds
LOCATION:Zoom Platform (link in event details)
GEO:0.000000;0.000000
ORGANIZER;CN="Zach":MAILTO:zflauaus@wustl.edu
URL;VALUE=URI:https://ophthalmology.wustl.edu/calendar/event/grand-rounds-2
 9/
END:VEVENT
BEGIN:VTIMEZONE
TZID:America/Chicago
BEGIN:STANDARD
TZOFFSETFROM:-0500
TZOFFSETTO:-0600
DTSTART:20191103T070000
TZNAME:CST
END:STANDARD
END:VTIMEZONE
END:VCALENDAR
