BEGIN:VCALENDAR
VERSION:2.0
PRODID:-//Ophthalmology &amp; Visual Sciences//NONSGML Events//EN
CALSCALE:GREGORIAN
X-ORIGINAL-URL:https://ophthalmology.wustl.edu/calendar/
X-WR-CALDESC:Ophthalmology &amp; Visual Sciences - Events
BEGIN:VEVENT
UID:20211010T0330Z-1633836632.5135-EO-6693-1@172.23.128.19
STATUS:CONFIRMED
DTSTAMP:20260424T201031Z
CREATED:20200421T165324Z
LAST-MODIFIED:20200522T174306Z
DTSTART;TZID=America/Chicago:20200610T070000
DTEND;TZID=America/Chicago:20200610T080000
SUMMARY: Grand Rounds
DESCRIPTION: Ophthalmology and Visual Sciences Grand Rounds presented by Mi
 chael Ullman\, MD Cornea & External Disease Fellow\, Ophthalmology and Visu
 al Sciences James Liu\, MD Chief of Ophthalmic Eye Trauma\, Ophthalmology a
 nd Visual Sciences
X-ALT-DESC;FMTTYPE=text/html: <h4 style="text-align: center\;"><strong>Opht
 halmology and Visual Sciences Grand Rounds </strong></h4><p style="text-ali
 gn: center\;">presented by</p><p style="text-align: center\;"><a href="http
 s://ophthalmology.wustl.edu/people/michael-ullman-md/"><strong>Michael Ullm
 an\, MD</strong></a></p><p style="text-align: center\;">Cornea & External D
 isease Fellow\,</p><p style="text-align: center\;">Ophthalmology and Visual
  Sciences</p><p style="text-align: center\;"><a href="https://sites.wustl.e
 du/ophthalmology/people/james-liu-md/"><strong>James Liu\, MD</strong></a><
 /p><div class="washu-ppi-list-card people type-people hentry"><div class="w
 ashu-ppi-content archive"><p class="washu-ppi-description" style="text-alig
 n: center\;">Chief of Ophthalmic Eye Trauma\,</p><p style="text-align: cent
 er\;">Ophthalmology and Visual Sciences</p></div></div>
CATEGORIES:All,Grand Rounds
LOCATION:Zoom Platform
GEO:41.875562;-87.624421
ORGANIZER;CN="Zach":MAILTO:zflauaus@wustl.edu
URL;VALUE=URI:https://ophthalmology.wustl.edu/calendar/event/grand-rounds-3
 /
END:VEVENT
BEGIN:VTIMEZONE
TZID:America/Chicago
BEGIN:DAYLIGHT
TZOFFSETFROM:-0600
TZOFFSETTO:-0500
DTSTART:20200308T080000
TZNAME:CDT
END:DAYLIGHT
END:VTIMEZONE
END:VCALENDAR
