BEGIN:VCALENDAR
VERSION:2.0
PRODID:-//Ophthalmology &amp; Visual Sciences//NONSGML Events//EN
CALSCALE:GREGORIAN
X-ORIGINAL-URL:https://ophthalmology.wustl.edu/calendar/
X-WR-CALDESC:Ophthalmology &amp; Visual Sciences - Events
BEGIN:VEVENT
UID:20211010T0334Z-1633836895.6961-EO-7221-1@172.23.128.19
STATUS:CONFIRMED
DTSTAMP:20260425T171039Z
CREATED:20200429T194040Z
LAST-MODIFIED:20200429T194040Z
DTSTART;TZID=America/Chicago:20200506T160000
DTEND;TZID=America/Chicago:20200506T170000
SUMMARY: Grand Rounds
DESCRIPTION: Ophthalmology and Visual Sciences Zoom Grand Rounds presented 
 by Michael Paley\, MD\, PhD Division of Rheumatology
X-ALT-DESC;FMTTYPE=text/html: <h4 style="text-align: center\;"><strong>Opht
 halmology and Visual Sciences Zoom Grand Rounds </strong></h4><p style="tex
 t-align: center\;">presented by</p><p style="text-align: center\;"><strong>
 Michael Paley\, MD\, PhD</strong></p><p style="text-align: center\;"><span>
 Division of Rheumatology</span></p>
CATEGORIES:All,Grand Rounds
LOCATION:Zoom Platform (link in event details)
GEO:0.000000;0.000000
ORGANIZER;CN="Brian":MAILTO:bmarston@wustl.edu
URL;VALUE=URI:https://ophthalmology.wustl.edu/calendar/event/grand-rounds-3
 2/
END:VEVENT
BEGIN:VTIMEZONE
TZID:America/Chicago
BEGIN:DAYLIGHT
TZOFFSETFROM:-0600
TZOFFSETTO:-0500
DTSTART:20200308T080000
TZNAME:CDT
END:DAYLIGHT
END:VTIMEZONE
END:VCALENDAR
