BEGIN:VCALENDAR
VERSION:2.0
PRODID:-//Ophthalmology &amp; Visual Sciences//NONSGML Events//EN
CALSCALE:GREGORIAN
X-ORIGINAL-URL:https://ophthalmology.wustl.edu/calendar/
X-WR-CALDESC:Ophthalmology &amp; Visual Sciences - Events
BEGIN:VEVENT
UID:20211010T0319Z-1633835954.8733-EO-8723-1@172.23.128.19
STATUS:CONFIRMED
DTSTAMP:20260425T155620Z
CREATED:20200904T194238Z
LAST-MODIFIED:20201118T182929Z
DTSTART;TZID=America/Chicago:20201125T070000
DTEND;TZID=America/Chicago:20201125T080000
SUMMARY: Grand Rounds
DESCRIPTION: Ophthalmology and Visual Sciences Grand Rounds presented by Er
 ic Sollenberger\, MD Department of Ophthalmology and Visual Sciences Cornea
  Fellow “The Element of Surprise” and Andrew Huang\, MD\, MPH Professor\, O
 phthalmology and Visual Sciences “Sense and Sensibility of Ocular Surface” 
   *See DOVS Newsletter or DOVS Grand Rounds email for Zoom details.
X-ALT-DESC;FMTTYPE=text/html: <h4 style="text-align: center\;"><strong>Opht
 halmology and Visual Sciences Grand Rounds</strong></h4><p style="text-alig
 n: center\;">presented by</p><p style="text-align: center\;"><a href="https
 ://ophthalmology.wustl.edu/people/eric-sollenberger-md/"><strong>Eric Solle
 nberger\, MD</strong></a></p><p style="text-align: center\;">Department of 
 Ophthalmology and Visual Sciences Cornea Fellow</p><p style="text-align: ce
 nter\;">"The Element of Surprise"</p><p style="text-align: center\;">and</p
 ><p style="text-align: center\;"><a href="https://ophthalmology.wustl.edu/p
 eople/andrew-huang-md-mph/"><span style="font-size: 1.125rem\;"><b>Andrew H
 uang\, MD\, MPH</b></span></a></p><p style="text-align: center\;">Professor
 \, Ophthalmology and Visual Sciences</p><p style="text-align: center\;">"Se
 nse and Sensibility of Ocular Surface"</p><p> </p><p style="text-align: lef
 t\;">*See DOVS Newsletter or DOVS Grand Rounds email for Zoom details.</p>
CATEGORIES:All,Grand Rounds
LOCATION:Zoom Virtual Platform
GEO:38.626845;-90.256594
ORGANIZER;CN="Olivia":MAILTO:ojensen@wustl.edu
URL;VALUE=URI:https://ophthalmology.wustl.edu/calendar/event/grand-rounds-3
 8/
END:VEVENT
BEGIN:VTIMEZONE
TZID:America/Chicago
BEGIN:STANDARD
TZOFFSETFROM:-0500
TZOFFSETTO:-0600
DTSTART:20201101T070000
TZNAME:CST
END:STANDARD
END:VTIMEZONE
END:VCALENDAR
