BEGIN:VCALENDAR
VERSION:2.0
PRODID:-//Ophthalmology &amp; Visual Sciences//NONSGML Events//EN
CALSCALE:GREGORIAN
X-ORIGINAL-URL:https://ophthalmology.wustl.edu/calendar/
X-WR-CALDESC:Ophthalmology &amp; Visual Sciences - Events
BEGIN:VEVENT
UID:20211010T0330Z-1633836654.345-EO-6694-1@172.23.128.19
STATUS:CONFIRMED
DTSTAMP:20260424T200949Z
CREATED:20200421T165325Z
LAST-MODIFIED:20200522T174237Z
DTSTART;TZID=America/Chicago:20200603T070000
DTEND;TZID=America/Chicago:20200603T080000
SUMMARY: Grand Rounds
DESCRIPTION: Ophthalmology and Visual Sciences Grand Rounds presented by Ma
 xwell Dixon\, MD Third Year Resident\, DOVS “Kirkwood to Kathmandu: My Expe
 rience with Eye Surgery in the Himalayas” and David Vollman\, MD\, MBA Asso
 ciate Professor\, Ophthalmology and Visual Sciences\; Chief of Ophthalmolog
 y\, John J. Cochran Veterans Affairs Medical Center “E&M Changes and Ophtha
 lmology Outlook for 2021”
X-ALT-DESC;FMTTYPE=text/html: <h4 style="text-align: center\;"><strong>Opht
 halmology and Visual Sciences Grand Rounds </strong></h4><p style="text-ali
 gn: center\;">presented by</p><p style="text-align: center\;"><a href="http
 s://sites.wustl.edu/ophthalmology/people/maxwell-dixon-md/"><strong>Maxwell
  Dixon\, MD</strong></a></p><p style="text-align: center\;">Third Year Resi
 dent\, DOVS</p><p style="text-align: center\;">"Kirkwood to Kathmandu: My E
 xperience with Eye Surgery in the Himalayas"</p><p style="text-align: cente
 r\;">and</p><p style="text-align: center\;"><a href="https://sites.wustl.ed
 u/ophthalmology/people/david-vollman-md-mba/"><strong>David Vollman\, MD\, 
 MBA</strong></a></p><p style="text-align: center\;">Associate Professor\, O
 phthalmology and Visual Sciences\;</p><p style="text-align: center\;">Chief
  of Ophthalmology\, John J. Cochran Veterans Affairs Medical Center</p><p s
 tyle="text-align: center\;">"E&M Changes and Ophthalmology Outlook for 2021
 "</p>
CATEGORIES:All,Grand Rounds
LOCATION:Zoom Platform
GEO:41.875562;-87.624421
ORGANIZER;CN="Zach":MAILTO:zflauaus@wustl.edu
URL;VALUE=URI:https://ophthalmology.wustl.edu/calendar/event/grand-rounds-4
 /
END:VEVENT
BEGIN:VTIMEZONE
TZID:America/Chicago
BEGIN:DAYLIGHT
TZOFFSETFROM:-0600
TZOFFSETTO:-0500
DTSTART:20200308T080000
TZNAME:CDT
END:DAYLIGHT
END:VTIMEZONE
END:VCALENDAR
