BEGIN:VCALENDAR
VERSION:2.0
PRODID:-//Ophthalmology &amp; Visual Sciences//NONSGML Events//EN
CALSCALE:GREGORIAN
X-ORIGINAL-URL:https://ophthalmology.wustl.edu/calendar/
X-WR-CALDESC:Ophthalmology &amp; Visual Sciences - Events
BEGIN:VEVENT
UID:20210928T0443Z-1632804218.9315-EO-8735-1@172.23.128.18
STATUS:CONFIRMED
DTSTAMP:20260424T201031Z
CREATED:20200904T194909Z
LAST-MODIFIED:20200904T194909Z
DTSTART;TZID=America/Chicago:20201216T070000
DTEND;TZID=America/Chicago:20201216T080000
SUMMARY: Grand Rounds
DESCRIPTION: Ophthalmology and Visual Sciences Grand Rounds presented by Ja
 son Papas\, MD Department of Ophthalmology and Visual Sciences Cornea Fello
 w and Anthony Lubniewski\, MD Professor\, Ophthalmology and Visual Sciences
    *See DOVS Newsletter or DOVS Grand Rounds email for Zoom details.
X-ALT-DESC;FMTTYPE=text/html: <h4 style="text-align: center\;"><strong>Opht
 halmology and Visual Sciences Grand Rounds</strong></h4><p style="text-alig
 n: center\;">presented by</p><p style="text-align: center\;"><a href="https
 ://ophthalmology.wustl.edu/people/jason-papas-md/"><strong>Jason Papas\, MD
 </strong></a></p><p style="text-align: center\;">Department of Ophthalmolog
 y and Visual Sciences Cornea Fellow</p><p style="text-align: center\;">and<
 /p><p style="text-align: center\;"><a href="https://ophthalmology.wustl.edu
 /people/anthony-lubniewski-md/"><span style="font-size: 1.125rem\;"><b>Anth
 ony Lubniewski\, MD</b></span></a></p><p style="text-align: center\;">Profe
 ssor\, Ophthalmology and Visual Sciences</p><p> </p><p style="text-align: l
 eft\;">*See DOVS Newsletter or DOVS Grand Rounds email for Zoom details.</p
 >
CATEGORIES:All,Grand Rounds
LOCATION:Zoom Virtual Platform
GEO:38.626845;-90.256594
ORGANIZER;CN="Olivia":MAILTO:ojensen@wustl.edu
URL;VALUE=URI:https://ophthalmology.wustl.edu/calendar/event/grand-rounds-4
 1/
END:VEVENT
BEGIN:VTIMEZONE
TZID:America/Chicago
BEGIN:STANDARD
TZOFFSETFROM:-0500
TZOFFSETTO:-0600
DTSTART:20201101T070000
TZNAME:CST
END:STANDARD
END:VTIMEZONE
END:VCALENDAR
