BEGIN:VCALENDAR
VERSION:2.0
PRODID:-//Ophthalmology &amp; Visual Sciences//NONSGML Events//EN
CALSCALE:GREGORIAN
X-ORIGINAL-URL:https://ophthalmology.wustl.edu/calendar/
X-WR-CALDESC:Ophthalmology &amp; Visual Sciences - Events
BEGIN:VEVENT
UID:20210928T0443Z-1632804217.1187-EO-8744-1@172.23.128.18
STATUS:CONFIRMED
DTSTAMP:20260424T200948Z
CREATED:20200904T200403Z
LAST-MODIFIED:20200904T200413Z
DTSTART;TZID=America/Chicago:20210120T070000
DTEND;TZID=America/Chicago:20210120T080000
SUMMARY: Grand Rounds
DESCRIPTION: Ophthalmology and Visual Sciences Grand Rounds presented by Ka
 ren Hong\, MD\, MPhil Third Year Resident\, DOVS and David Vollman\, MD\, M
 BA Associate Professor\, Ophthalmology and Visual Sciences\; Director of Op
 hthalmology\, John J. Cochran Veterans Affairs Medical Center   *See DOVS N
 ewsletter or DOVS Grand Rounds email for Zoom details.
X-ALT-DESC;FMTTYPE=text/html: <h4 style="text-align: center\;"><strong>Opht
 halmology and Visual Sciences Grand Rounds</strong></h4><p style="text-alig
 n: center\;">presented by</p><p style="text-align: center\;"><a href="https
 ://ophthalmology.wustl.edu/people/karen-hong-md-mphil/"><b>Karen Hong\, MD\
 , MPhil</b></a></p><p style="text-align: center\;">Third Year Resident\, DO
 VS</p><p style="text-align: center\;">and</p><p style="text-align: center\;
 "><a href="https://ophthalmology.wustl.edu/people/david-vollman-md-mba/"><b
 >David Vollman\, MD\, MBA</b></a></p><p style="text-align: center\;">Associ
 ate Professor\, Ophthalmology and Visual Sciences\; Director of Ophthalmolo
 gy\, John J. Cochran Veterans Affairs Medical Center</p><p> </p><p style="t
 ext-align: left\;">*See DOVS Newsletter or DOVS Grand Rounds email for Zoom
  details.</p>
CATEGORIES:All,Grand Rounds
LOCATION:Zoom Virtual Platform
GEO:38.626845;-90.256594
ORGANIZER;CN="Olivia":MAILTO:ojensen@wustl.edu
URL;VALUE=URI:https://ophthalmology.wustl.edu/calendar/event/grand-rounds-4
 4/
END:VEVENT
BEGIN:VTIMEZONE
TZID:America/Chicago
BEGIN:STANDARD
TZOFFSETFROM:-0500
TZOFFSETTO:-0600
DTSTART:20201101T070000
TZNAME:CST
END:STANDARD
END:VTIMEZONE
END:VCALENDAR
