BEGIN:VCALENDAR
VERSION:2.0
PRODID:-//Ophthalmology &amp; Visual Sciences//NONSGML Events//EN
CALSCALE:GREGORIAN
X-ORIGINAL-URL:https://ophthalmology.wustl.edu/calendar/
X-WR-CALDESC:Ophthalmology &amp; Visual Sciences - Events
BEGIN:VEVENT
UID:20210928T0443Z-1632804210.0685-EO-8750-1@172.23.128.18
STATUS:CONFIRMED
DTSTAMP:20260425T160003Z
CREATED:20210129T180241Z
LAST-MODIFIED:20210129T180235Z
DTSTART;TZID=America/Chicago:20210203T070000
DTEND;TZID=America/Chicago:20210203T080000
SUMMARY: Grand Rounds
DESCRIPTION: Ophthalmology and Visual Sciences Grand Rounds presented by Bl
 iss O’Bryhim\, MD\, PhD Department of Ophthalmology and Visual Sciences Sec
 ond Year Retina Fellow and Kisha Piggott\, MD\, PhD Assistant Professor\, O
 phthalmology and Visual Sciences\; Co-Director of the Residency Program   “
 To Thin or Not to Thin: An Ophthalmic Surgery Dilemma”   *See DOVS Newslett
 er or DOVS […]
X-ALT-DESC;FMTTYPE=text/html: <h4 style="text-align: center\;"><strong>Opht
 halmology and Visual Sciences Grand Rounds</strong></h4><p style="text-alig
 n: center\;">presented by</p><p style="text-align: center\;"><a href="https
 ://ophthalmology.wustl.edu/people/bliss-obryhim-md-phd/"><b>Bliss O'Bryhim\
 , MD\, PhD</b></a></p><p style="text-align: center\;">Department of Ophthal
 mology and Visual Sciences Second Year Retina Fellow</p><p style="text-alig
 n: center\;">and</p><p style="text-align: center\;"><a href="https://ophtha
 lmology.wustl.edu/people/kisha-piggott-md-phd/"><b>Kisha Piggott\, MD\, PhD
 </b></a></p><p style="text-align: center\;">Assistant Professor\, Ophthalmo
 logy and Visual Sciences\; Co-Director of the Residency Program</p><p> </p>
 <p style="text-align: center\;">"To Thin or Not to Thin: An Ophthalmic Surg
 ery Dilemma"</p><p> </p><p style="text-align: left\;">*See DOVS Newsletter 
 or DOVS Grand Rounds email for Zoom details.</p>
CATEGORIES:All,Grand Rounds
LOCATION:Zoom Virtual Platform
GEO:38.626845;-90.256594
ORGANIZER;CN="Olivia":MAILTO:ojensen@wustl.edu
URL;VALUE=URI:https://ophthalmology.wustl.edu/calendar/event/grand-rounds-4
 6/
END:VEVENT
BEGIN:VTIMEZONE
TZID:America/Chicago
BEGIN:STANDARD
TZOFFSETFROM:-0500
TZOFFSETTO:-0600
DTSTART:20201101T070000
TZNAME:CST
END:STANDARD
END:VTIMEZONE
END:VCALENDAR
