BEGIN:VCALENDAR
VERSION:2.0
PRODID:-//Ophthalmology &amp; Visual Sciences//NONSGML Events//EN
CALSCALE:GREGORIAN
X-ORIGINAL-URL:https://ophthalmology.wustl.edu/calendar/
X-WR-CALDESC:Ophthalmology &amp; Visual Sciences - Events
BEGIN:VEVENT
UID:20210928T0443Z-1632804211.5827-EO-8753-1@172.23.128.18
STATUS:CONFIRMED
DTSTAMP:20260424T201030Z
CREATED:20210203T112037Z
LAST-MODIFIED:20210203T232024Z
DTSTART;TZID=America/Chicago:20210210T070000
DTEND;TZID=America/Chicago:20210210T080000
SUMMARY: Grand Rounds
DESCRIPTION: Ophthalmology and Visual Sciences Grand Rounds presented by Ch
 ristopher Hwang\, MD\, PhD Department of Ophthalmology and Visual Sciences 
 First Year Retina Fellow and Rithwick Rajagopal\, MD\, PhD Assistant Profes
 sor\, Ophthalmology and Visual Sciences\; Director of Clinical COVID Prepar
 edness   “Striking Aspects of Intraocular Foreign Body Management”     *See
  DOVS Newsletter or DOVS Grand Rounds […]
X-ALT-DESC;FMTTYPE=text/html: <h4 style="text-align: center\;"><strong>Opht
 halmology and Visual Sciences Grand Rounds</strong></h4><p style="text-alig
 n: center\;">presented by</p><p style="text-align: center\;"><a href="https
 ://ophthalmology.wustl.edu/people/christopher-hwang-md-phd/"><b>Christopher
  Hwang\, MD\, PhD</b></a></p><p style="text-align: center\;">Department of 
 Ophthalmology and Visual Sciences First Year Retina Fellow</p><p style="tex
 t-align: center\;">and</p><p style="text-align: center\;"><a href="https://
 ophthalmology.wustl.edu/people/rithwick-rajagopal-md-phd/"><b>Rithwick Raja
 gopal\, MD\, PhD</b></a></p><p style="text-align: center\;">Assistant Profe
 ssor\, Ophthalmology and Visual Sciences\; Director of Clinical COVID Prepa
 redness</p><p style="text-align: center\;"><p> </p><p style="text-align: ce
 nter\;"><em><strong>"Striking Aspects of Intraocular Foreign Body Managemen
 t"</strong></em></p><p> </p><p> </p><p style="text-align: left\;">*See DOVS
  Newsletter or DOVS Grand Rounds email for Zoom details.</p>
CATEGORIES:All,Grand Rounds
LOCATION:Zoom Virtual Platform
GEO:38.626845;-90.256594
ORGANIZER;CN="Olivia":MAILTO:ojensen@wustl.edu
URL;VALUE=URI:https://ophthalmology.wustl.edu/calendar/event/grand-rounds-4
 7/
END:VEVENT
BEGIN:VTIMEZONE
TZID:America/Chicago
BEGIN:STANDARD
TZOFFSETFROM:-0500
TZOFFSETTO:-0600
DTSTART:20201101T070000
TZNAME:CST
END:STANDARD
END:VTIMEZONE
END:VCALENDAR
