BEGIN:VCALENDAR
VERSION:2.0
PRODID:-//Ophthalmology &amp; Visual Sciences//NONSGML Events//EN
CALSCALE:GREGORIAN
X-ORIGINAL-URL:https://ophthalmology.wustl.edu/calendar/
X-WR-CALDESC:Ophthalmology &amp; Visual Sciences - Events
BEGIN:VEVENT
UID:20210928T0443Z-1632804209.1952-EO-8756-1@172.23.128.18
STATUS:CONFIRMED
DTSTAMP:20260424T201029Z
CREATED:20200904T201117Z
LAST-MODIFIED:20210211T193318Z
DTSTART;TZID=America/Chicago:20210217T070000
DTEND;TZID=America/Chicago:20210217T080000
SUMMARY: Grand Rounds
DESCRIPTION: Ophthalmology and Visual Sciences Grand Rounds presented by Aa
 ditya Shah\, MD First Year Resident\, DOVS “Advances in Orbital Surgery: A 
 Case Presentation” and Robi Maamari\, MD Assistant Professor\, Ophthalmolog
 y and Visual Sciences “Advances in Oculofacial and Orbital Surgery”   *See 
 DOVS Newsletter or DOVS Grand Rounds email for Zoom details.
X-ALT-DESC;FMTTYPE=text/html: <h4 style="text-align: center\;"><strong>Opht
 halmology and Visual Sciences Grand Rounds</strong></h4><p style="text-alig
 n: center\;">presented by</p><p style="text-align: center\;"><a href="https
 ://ophthalmology.wustl.edu/people/aaditya-shah-md/"><b>Aaditya Shah\, MD</b
 ></a></p><p style="text-align: center\;">First Year Resident\, DOVS</p><p s
 tyle="text-align: center\;">"Advances in Orbital Surgery: A Case Presentati
 on"</p><p style="text-align: center\;">and</p><p style="text-align: center\
 ;"><a href="https://ophthalmology.wustl.edu/people/robi-maamari-md/"><b>Rob
 i Maamari\, MD</b></a></p><p style="text-align: center\;">Assistant Profess
 or\, Ophthalmology and Visual Sciences</p><p style="text-align: center\;">"
 Advances in Oculofacial and Orbital Surgery"</p><p> </p><p style="text-alig
 n: left\;">*See DOVS Newsletter or DOVS Grand Rounds email for Zoom details
 .</p>
CATEGORIES:All,Grand Rounds
LOCATION:Zoom Virtual Platform
GEO:38.626845;-90.256594
ORGANIZER;CN="Olivia":MAILTO:ojensen@wustl.edu
URL;VALUE=URI:https://ophthalmology.wustl.edu/calendar/event/grand-rounds-4
 8/
END:VEVENT
BEGIN:VTIMEZONE
TZID:America/Chicago
BEGIN:STANDARD
TZOFFSETFROM:-0500
TZOFFSETTO:-0600
DTSTART:20201101T070000
TZNAME:CST
END:STANDARD
END:VTIMEZONE
END:VCALENDAR
