BEGIN:VCALENDAR
VERSION:2.0
PRODID:-//Ophthalmology &amp; Visual Sciences//NONSGML Events//EN
CALSCALE:GREGORIAN
X-ORIGINAL-URL:https://ophthalmology.wustl.edu/calendar/
X-WR-CALDESC:Ophthalmology &amp; Visual Sciences - Events
BEGIN:VEVENT
UID:20210928T0443Z-1632804209.4282-EO-8759-1@172.23.128.18
STATUS:CONFIRMED
DTSTAMP:20260424T172928Z
CREATED:20200904T201402Z
LAST-MODIFIED:20210218T194529Z
DTSTART;TZID=America/Chicago:20210224T070000
DTEND;TZID=America/Chicago:20210224T080000
SUMMARY: Grand Rounds
DESCRIPTION: Ophthalmology and Visual Sciences Grand Rounds presented by Ki
 shan Patel\, MD Department of Ophthalmology and Visual Sciences First Year 
 Retina Fellow and P. Kumar Rao\, MD\, MBA Professor\, Ophthalmology and Vis
 ual Sciences\; Vice Chair for Clinical Affairs   “Endophthalmitis: A Blast 
 From the Past”   *See DOVS Newsletter or DOVS Grand Rounds email for Zoom [
 …]
X-ALT-DESC;FMTTYPE=text/html: <h4 style="text-align: center\;"><strong>Opht
 halmology and Visual Sciences Grand Rounds</strong></h4><p style="text-alig
 n: center\;">presented by</p><p style="text-align: center\;"><a href="https
 ://ophthalmology.wustl.edu/people/kishan-patel-md/"><b>Kishan Patel\, MD</b
 ></a></p><p style="text-align: center\;">Department of Ophthalmology and Vi
 sual Sciences First Year Retina Fellow</p><p style="text-align: center\;">a
 nd</p><p style="text-align: center\;"><a href="https://ophthalmology.wustl.
 edu/people/p-kumar-rao-md/"><b>P. Kumar Rao\, MD\, MBA</b></a></p><p style=
 "text-align: center\;">Professor\, Ophthalmology and Visual Sciences\; Vice
  Chair for Clinical Affairs</p><p> </p><p style="text-align: center\;">"End
 ophthalmitis: A Blast From the Past"</p><p> </p><p style="text-align: left\
 ;">*See DOVS Newsletter or DOVS Grand Rounds email for Zoom details.</p><p>
  </p><p style="text-align: center\;">
CATEGORIES:All,Grand Rounds
LOCATION:Zoom Virtual Platform
GEO:38.626845;-90.256594
ORGANIZER;CN="Olivia":MAILTO:ojensen@wustl.edu
URL;VALUE=URI:https://ophthalmology.wustl.edu/calendar/event/grand-rounds-4
 9/
END:VEVENT
BEGIN:VTIMEZONE
TZID:America/Chicago
BEGIN:STANDARD
TZOFFSETFROM:-0500
TZOFFSETTO:-0600
DTSTART:20201101T070000
TZNAME:CST
END:STANDARD
END:VTIMEZONE
END:VCALENDAR
