BEGIN:VCALENDAR
VERSION:2.0
PRODID:-//Ophthalmology &amp; Visual Sciences//NONSGML Events//EN
CALSCALE:GREGORIAN
X-ORIGINAL-URL:https://ophthalmology.wustl.edu/calendar/
X-WR-CALDESC:Ophthalmology &amp; Visual Sciences - Events
BEGIN:VEVENT
UID:20211010T0338Z-1633837111.5478-EO-6695-1@172.23.128.19
STATUS:CONFIRMED
DTSTAMP:20260424T201032Z
CREATED:20200421T165325Z
LAST-MODIFIED:20200427T163818Z
DTSTART;TZID=America/Chicago:20200311T070000
DTEND;TZID=America/Chicago:20200311T080000
SUMMARY: Grand Rounds
DESCRIPTION: Ophthalmology and Visual Science Grand Rounds presented by Jam
 es B. Shepherd III\, MD Associate Professor\, Ophthalmology and Visual Scie
 nces Washington University School of Medicine “Adult Strabismus FAQs: A Sur
 geon’s Perspective” and Karen Hong\, MD\, MPhil Second Year Resident\, DOVS
  Washington University School of Medicine “A Sinking Feeling on a Heavy Dia
 gnosis”
X-ALT-DESC;FMTTYPE=text/html: <h4 style="text-align: center\;">Ophthalmolog
 y and Visual Science Grand Rounds</h4><p style="text-align: center\;">prese
 nted by</p><p style="text-align: center\;"><a href="https://ophthalmology.w
 ustl.edu/people/james-banks-shepherd-iii-md/"><strong>James B. Shepherd III
 \, MD</strong></a><br />Associate Professor\, Ophthalmology and Visual Scie
 nces<br />Washington University School of Medicine</p><p style="text-align:
  center\;">"Adult Strabismus FAQs: A Surgeon's Perspective"</p><p style="te
 xt-align: center\;">and</p><p style="text-align: center\;"><a href="https:/
 /ophthalmology.wustl.edu/people/karen-hong-md-mphil/"><strong>Karen Hong\, 
 MD\, MPhil</strong></a><br />Second Year Resident\, DOVS<br />Washington Un
 iversity School of Medicine</p><p style="text-align: center\;">"A Sinking F
 eeling on a Heavy Diagnosis"</p>
CATEGORIES:All,Grand Rounds
LOCATION:Zoom Platform (link in event details)
GEO:0.000000;0.000000
ORGANIZER;CN="Zach":MAILTO:zflauaus@wustl.edu
URL;VALUE=URI:https://ophthalmology.wustl.edu/calendar/event/grand-rounds-5
 /
END:VEVENT
BEGIN:VTIMEZONE
TZID:America/Chicago
BEGIN:DAYLIGHT
TZOFFSETFROM:-0600
TZOFFSETTO:-0500
DTSTART:20200308T080000
TZNAME:CDT
END:DAYLIGHT
END:VTIMEZONE
END:VCALENDAR
