BEGIN:VCALENDAR
VERSION:2.0
PRODID:-//Ophthalmology &amp; Visual Sciences//NONSGML Events//EN
CALSCALE:GREGORIAN
X-ORIGINAL-URL:https://ophthalmology.wustl.edu/calendar/
X-WR-CALDESC:Ophthalmology &amp; Visual Sciences - Events
BEGIN:VEVENT
UID:20210928T0443Z-1632804201.0613-EO-8771-1@172.23.128.18
STATUS:CONFIRMED
DTSTAMP:20260425T171646Z
CREATED:20200904T202715Z
LAST-MODIFIED:20210325T135738Z
DTSTART;TZID=America/Chicago:20210331T070000
DTEND;TZID=America/Chicago:20210331T080000
SUMMARY: Grand Rounds
DESCRIPTION: Ophthalmology and Visual Sciences Grand Rounds presented by Ja
 nani Singaravelu\, MD Third Year Resident\, DOVS and Rajendra Apte\, MD\, P
 hD Paul A. Cibis Distinguished Professor of Ophthalmology and Visual Scienc
 es   “ReVitlOLizing Our Approach: Retina Considerations for Cataract Surger
 y”   *See DOVS Newsletter or DOVS Grand Rounds email for Zoom details.
X-ALT-DESC;FMTTYPE=text/html: <h4 style="text-align: center\;"><strong>Opht
 halmology and Visual Sciences Grand Rounds</strong></h4><p style="text-alig
 n: center\;">presented by</p><p style="text-align: center\;"><a href="https
 ://ophthalmology.wustl.edu/people/janani-singaravelu-md/"><b>Janani Singara
 velu\, MD</b></a></p><p style="text-align: center\;">Third Year Resident\, 
 DOVS</p><p style="text-align: center\;">and</p><p style="text-align: center
 \;"><a href="https://ophthalmology.wustl.edu/people/rajendra-apte-md-phd/">
 <b>Rajendra Apte\, MD\, PhD</b></a></p><p style="text-align: center\;">Paul
  A. Cibis Distinguished Professor of Ophthalmology and Visual Sciences</p><
 p> </p><p style="text-align: center\;">"ReVitlOLizing Our Approach: Retina 
 Considerations for Cataract Surgery"</p><p> </p><p style="text-align: left\
 ;">*See DOVS Newsletter or DOVS Grand Rounds email for Zoom details.</p>
CATEGORIES:All,Grand Rounds
LOCATION:Zoom Virtual Platform
GEO:38.626845;-90.256594
ORGANIZER;CN="Olivia":MAILTO:ojensen@wustl.edu
URL;VALUE=URI:https://ophthalmology.wustl.edu/calendar/event/grand-rounds-5
 3/
END:VEVENT
BEGIN:VTIMEZONE
TZID:America/Chicago
BEGIN:DAYLIGHT
TZOFFSETFROM:-0600
TZOFFSETTO:-0500
DTSTART:20210314T080000
TZNAME:CDT
END:DAYLIGHT
END:VTIMEZONE
END:VCALENDAR
