BEGIN:VCALENDAR
VERSION:2.0
PRODID:-//Ophthalmology &amp; Visual Sciences//NONSGML Events//EN
CALSCALE:GREGORIAN
X-ORIGINAL-URL:https://ophthalmology.wustl.edu/calendar/
X-WR-CALDESC:Ophthalmology &amp; Visual Sciences - Events
BEGIN:VEVENT
UID:20210928T0443Z-1632804199.5473-EO-8777-1@172.23.128.18
STATUS:CONFIRMED
DTSTAMP:20260424T201028Z
CREATED:20200904T203043Z
LAST-MODIFIED:20210409T152634Z
DTSTART;TZID=America/Chicago:20210414T070000
DTEND;TZID=America/Chicago:20210414T080000
SUMMARY: Grand Rounds
DESCRIPTION: Ophthalmology and Visual Sciences Grand Rounds presented by Ma
 tthew Santos\, MD Second Year Resident\, DOVS and Leanne Stunkel\, MD Assis
 tant Professor\, Ophthalmology & Visual Sciences and Neurology “Visual Loss
  due to Neurodegenerative Disease: Posterior Cortical Atrophy” *See DOVS Ne
 wsletter or DOVS Grand Rounds email for Zoom details.
X-ALT-DESC;FMTTYPE=text/html: <h4 style="text-align: center\;"><strong>Opht
 halmology and Visual Sciences Grand Rounds</strong></h4><p style="text-alig
 n: center\;">presented by</p><p style="text-align: center\;"><a href="https
 ://ophthalmology.wustl.edu/people/matthew-santos-md/"><b>Matthew Santos\, M
 D</b></a></p><p style="text-align: center\;">Second Year Resident\, DOVS</p
 ><p style="text-align: center\;">and</p><p style="text-align: center\;"><a 
 href="https://ophthalmology.wustl.edu/people/leanne-stunkel-md/"><b>Leanne 
 Stunkel\, MD</b></a></p><p style="text-align: center\;">Assistant Professor
 \, Ophthalmology & Visual Sciences and Neurology</p><p style="text-align: c
 enter\;"><em>"Visual Loss due to Neurodegenerative Disease: Posterior Corti
 cal Atrophy"</em></p><p style="text-align: left\;">*See DOVS Newsletter or 
 DOVS Grand Rounds email for Zoom details.</p>
CATEGORIES:All,Grand Rounds
LOCATION:Zoom Virtual Platform
GEO:38.626845;-90.256594
ORGANIZER;CN="Olivia":MAILTO:ojensen@wustl.edu
URL;VALUE=URI:https://ophthalmology.wustl.edu/calendar/event/grand-rounds-5
 5/
END:VEVENT
BEGIN:VTIMEZONE
TZID:America/Chicago
BEGIN:DAYLIGHT
TZOFFSETFROM:-0600
TZOFFSETTO:-0500
DTSTART:20210314T080000
TZNAME:CDT
END:DAYLIGHT
END:VTIMEZONE
END:VCALENDAR
