BEGIN:VCALENDAR
VERSION:2.0
PRODID:-//Ophthalmology &amp; Visual Sciences//NONSGML Events//EN
CALSCALE:GREGORIAN
X-ORIGINAL-URL:https://ophthalmology.wustl.edu/calendar/
X-WR-CALDESC:Ophthalmology &amp; Visual Sciences - Events
BEGIN:VEVENT
UID:20210928T0443Z-1632804189.1368-EO-8783-1@172.23.128.18
STATUS:CONFIRMED
DTSTAMP:20260425T210253Z
CREATED:20200904T203440Z
LAST-MODIFIED:20200904T203440Z
DTSTART;TZID=America/Chicago:20210519T070000
DTEND;TZID=America/Chicago:20210519T080000
SUMMARY: Grand Rounds
DESCRIPTION: Ophthalmology and Visual Sciences Grand Rounds presented by Je
 nnifer Enright\, MD\, PhD Third Year Resident\, DOVS and Linda Tsai\, MD Pr
 ofessor\, Ophthalmology and Visual Sciences   *See DOVS Newsletter or DOVS 
 Grand Rounds email for Zoom details.
X-ALT-DESC;FMTTYPE=text/html: <h4 style="text-align: center\;"><strong>Opht
 halmology and Visual Sciences Grand Rounds</strong></h4><p style="text-alig
 n: center\;">presented by</p><p style="text-align: center\;"><a href="https
 ://ophthalmology.wustl.edu/people/jennifer-enright-md-phd/"><b>Jennifer Enr
 ight\, MD\, PhD</b></a></p><p style="text-align: center\;">Third Year Resid
 ent\, DOVS</p><p style="text-align: center\;">and</p><p style="text-align: 
 center\;"><a href="https://ophthalmology.wustl.edu/people/linda-tsai-md/"><
 b>Linda Tsai\, MD</b></a></p><p style="text-align: center\;">Professor\, Op
 hthalmology and Visual Sciences</p><p> </p><p style="text-align: left\;">*S
 ee DOVS Newsletter or DOVS Grand Rounds email for Zoom details.</p>
CATEGORIES:All,Grand Rounds
LOCATION:Zoom Virtual Platform
GEO:38.626845;-90.256594
ORGANIZER;CN="Olivia":MAILTO:ojensen@wustl.edu
URL;VALUE=URI:https://ophthalmology.wustl.edu/calendar/event/grand-rounds-5
 7/
END:VEVENT
BEGIN:VTIMEZONE
TZID:America/Chicago
BEGIN:DAYLIGHT
TZOFFSETFROM:-0600
TZOFFSETTO:-0500
DTSTART:20210314T080000
TZNAME:CDT
END:DAYLIGHT
END:VTIMEZONE
END:VCALENDAR
