BEGIN:VCALENDAR
VERSION:2.0
PRODID:-//Ophthalmology &amp; Visual Sciences//NONSGML Events//EN
CALSCALE:GREGORIAN
X-ORIGINAL-URL:https://ophthalmology.wustl.edu/calendar/
X-WR-CALDESC:Ophthalmology &amp; Visual Sciences - Events
BEGIN:VEVENT
UID:20210928T0442Z-1632804178.1842-EO-8795-1@172.23.128.18
STATUS:CONFIRMED
DTSTAMP:20260424T201027Z
CREATED:20200904T204023Z
LAST-MODIFIED:20210610T195550Z
DTSTART;TZID=America/Chicago:20210623T070000
DTEND;TZID=America/Chicago:20210623T080000
SUMMARY: Grand Rounds
DESCRIPTION: Ophthalmology and Visual Sciences Grand Rounds presented by Me
 dical Students   *No CME credit awarded for attending
X-ALT-DESC;FMTTYPE=text/html: <h4 style="text-align: center\;"><strong>Opht
 halmology and Visual Sciences Grand Rounds</strong></h4><p style="text-alig
 n: center\;">presented by</p><p style="text-align: center\;"><b>Medical Stu
 dents</b></p><p> </p><p style="text-align: left\;">*No CME credit awarded f
 or attending</p>
CATEGORIES:All,Grand Rounds
LOCATION:Zoom Virtual Platform
GEO:38.626845;-90.256594
ORGANIZER;CN="Olivia":MAILTO:ojensen@wustl.edu
URL;VALUE=URI:https://ophthalmology.wustl.edu/calendar/event/grand-rounds-6
 1/
END:VEVENT
BEGIN:VTIMEZONE
TZID:America/Chicago
BEGIN:DAYLIGHT
TZOFFSETFROM:-0600
TZOFFSETTO:-0500
DTSTART:20210314T080000
TZNAME:CDT
END:DAYLIGHT
END:VTIMEZONE
END:VCALENDAR
