BEGIN:VCALENDAR
VERSION:2.0
PRODID:-//Ophthalmology &amp; Visual Sciences//NONSGML Events//EN
CALSCALE:GREGORIAN
X-ORIGINAL-URL:https://ophthalmology.wustl.edu/calendar/
X-WR-CALDESC:Ophthalmology &amp; Visual Sciences - Events
BEGIN:VEVENT
UID:20211010T0331Z-1633836693.6504-EO-6697-1@172.23.128.19
STATUS:CONFIRMED
DTSTAMP:20260424T200949Z
CREATED:20200421T165325Z
LAST-MODIFIED:20200522T174130Z
DTSTART;TZID=America/Chicago:20200527T160000
DTEND;TZID=America/Chicago:20200527T170000
SUMMARY: Grand Rounds
DESCRIPTION: Ophthalmology and Visual Sciences Grand Rounds Presented by Sp
 encer Fuller\, MD\, MPH Resident\, Ophthalmology and Visual Sciences “It’s 
 Not Lupus…” Gregory Van Stavern\, MD Professor\, Ophthalmology and Visual S
 ciences and Neurology “Autoimmune Optic Neuropathies: Optic Neuritis and Be
 yond!”
X-ALT-DESC;FMTTYPE=text/html: <h4 style="text-align: center\;">Ophthalmolog
 y and Visual Sciences Grand Rounds</h4><p style="text-align: center\;">Pres
 ented by</p><p style="text-align: center\;"><a href="https://ophthalmology.
 wustl.edu/people/spencer-fuller-md-mph/"><strong>Spencer Fuller\, MD\, MPH<
 /strong></a></p><p style="text-align: center\;">Resident\, Ophthalmology an
 d Visual Sciences</p><p style="text-align: center\;">"It's Not Lupus..."</p
 ><p style="text-align: center\;"><a href="https://wuphysicians.wustl.edu/fo
 r-patients/find-a-physician/gregory-p-van-stavern"><strong>Gregory Van Stav
 ern\, MD</strong></a></p><p style="text-align: center\;">Professor\, Ophtha
 lmology</p><p style="text-align: center\;">and Visual Sciences and Neurolog
 y</p><p style="text-align: center\;">"Autoimmune Optic Neuropathies: Optic 
 Neuritis and Beyond!"</p>
CATEGORIES:All,Grand Rounds
LOCATION:Zoom Platform
GEO:41.875562;-87.624421
ORGANIZER;CN="Zach":MAILTO:zflauaus@wustl.edu
URL;VALUE=URI:https://ophthalmology.wustl.edu/calendar/event/grand-rounds-7
 /
END:VEVENT
BEGIN:VTIMEZONE
TZID:America/Chicago
BEGIN:DAYLIGHT
TZOFFSETFROM:-0600
TZOFFSETTO:-0500
DTSTART:20200308T080000
TZNAME:CDT
END:DAYLIGHT
END:VTIMEZONE
END:VCALENDAR
