BEGIN:VCALENDAR
VERSION:2.0
PRODID:-//Ophthalmology &amp; Visual Sciences//NONSGML Events//EN
CALSCALE:GREGORIAN
X-ORIGINAL-URL:https://ophthalmology.wustl.edu/calendar/
X-WR-CALDESC:Ophthalmology &amp; Visual Sciences - Events
BEGIN:VEVENT
UID:20211010T0325Z-1633836354.5394-EO-8696-1@172.23.128.19
STATUS:CONFIRMED
DTSTAMP:20260424T124348Z
CREATED:20200904T185332Z
LAST-MODIFIED:20200925T215037Z
DTSTART;TZID=America/Chicago:20200930T070000
DTEND;TZID=America/Chicago:20200930T080000
SUMMARY: Grand Rounds
DESCRIPTION: Ophthalmology and Visual Sciences Grand Rounds presented by Ra
 chael Lyerla\, MD First Year Resident\, DOVS “Severe Thermal and Chemical I
 njuries: From the ED to the Clinic(s)” and Augustine Hong\, MD Assistant Pr
 ofessor\, Ophthalmology and Visual Sciences “Limbus 2000”   *See DOVS Newsl
 etter or DOVS Grand Rounds email for Zoom details.
X-ALT-DESC;FMTTYPE=text/html: <h4 style="text-align: center\;"><strong>Opht
 halmology and Visual Sciences Grand Rounds</strong></h4><p style="text-alig
 n: center\;">presented by</p><p style="text-align: center\;"><a href="https
 ://ophthalmology.wustl.edu/people/rachael-lyerla-md/"><strong>Rachael Lyerl
 a\, MD</strong></a></p><p style="text-align: center\;">First Year Resident\
 , DOVS</p><p style="text-align: center\;">"Severe Thermal and Chemical Inju
 ries: From the ED to the Clinic(s)"</p><p style="text-align: center\;">and<
 /p><p style="text-align: center\;"><a href="https://ophthalmology.wustl.edu
 /people/augustine-hong-md/"><span style="font-size: 1.125rem\;"><b>Augustin
 e Hong\, MD</b></span></a></p><p style="text-align: center\;"><span style="
 font-size: 1.125rem\;">Assistant Professor\, Ophthalmology and Visual Scien
 ces</span></p><p style="text-align: center\;">"Limbus 2000"</p><p> </p><p s
 tyle="text-align: left\;">*See DOVS Newsletter or DOVS Grand Rounds email f
 or Zoom details.</p>
CATEGORIES:All,Grand Rounds
LOCATION:Zoom Virtual Platform
GEO:38.626845;-90.256594
ORGANIZER;CN="Olivia":MAILTO:ojensen@wustl.edu
URL;VALUE=URI:https://ophthalmology.wustl.edu/calendar/event/grand-rounds-8
 /
END:VEVENT
BEGIN:VTIMEZONE
TZID:America/Chicago
BEGIN:DAYLIGHT
TZOFFSETFROM:-0600
TZOFFSETTO:-0500
DTSTART:20200308T080000
TZNAME:CDT
END:DAYLIGHT
END:VTIMEZONE
END:VCALENDAR
