BEGIN:VCALENDAR
VERSION:2.0
PRODID:-//Ophthalmology &amp; Visual Sciences//NONSGML Events//EN
CALSCALE:GREGORIAN
X-ORIGINAL-URL:https://ophthalmology.wustl.edu/calendar/
X-WR-CALDESC:Ophthalmology &amp; Visual Sciences - Events
BEGIN:VEVENT
UID:20211001T1328Z-1633094880.0234-EO-6701-1@172.23.128.19
STATUS:CONFIRMED
DTSTAMP:20260424T201042Z
CREATED:20200421T165325Z
LAST-MODIFIED:20200421T165325Z
DTSTART;TZID=America/Chicago:20200422T160000
DTEND;TZID=America/Chicago:20200422T170000
SUMMARY: Grand Rounds – CANCELED
DESCRIPTION: Ophthalmology and Visual Sciences Grand Rounds has been cancel
 ed for Wednesday\, April 22\, 2020. Grand Rounds will resume next week.
X-ALT-DESC;FMTTYPE=text/html: <h4 style="text-align: center\;"><strong>Opht
 halmology and Visual Sciences Grand Rounds </strong></h4><p style="text-ali
 gn: center\;">has been canceled for Wednesday\, April 22\, 2020.</p><p styl
 e="text-align: center\;">Grand Rounds will resume next week.</p>
CATEGORIES:All,Grand Rounds
LOCATION:Zoom Platform (link in event details)
GEO:0.000000;0.000000
ORGANIZER;CN="Zach":MAILTO:zflauaus@wustl.edu
URL;VALUE=URI:https://ophthalmology.wustl.edu/calendar/event/grand-rounds-c
 anceled/
END:VEVENT
BEGIN:VTIMEZONE
TZID:America/Chicago
BEGIN:DAYLIGHT
TZOFFSETFROM:-0600
TZOFFSETTO:-0500
DTSTART:20200308T080000
TZNAME:CDT
END:DAYLIGHT
END:VTIMEZONE
END:VCALENDAR
