BEGIN:VCALENDAR
VERSION:2.0
PRODID:-//Ophthalmology &amp; Visual Sciences//NONSGML Events//EN
CALSCALE:GREGORIAN
X-ORIGINAL-URL:https://ophthalmology.wustl.edu/calendar/
X-WR-CALDESC:Ophthalmology &amp; Visual Sciences - Events
BEGIN:VEVENT
UID:20211010T0327Z-1633836438.4211-EO-6691-1@172.23.128.19
STATUS:CONFIRMED
DTSTAMP:20260421T031440Z
CREATED:20200421T165324Z
LAST-MODIFIED:20200522T174359Z
DTSTART;TZID=America/Chicago:20200624T070000
DTEND;TZID=America/Chicago:20200624T080000
SUMMARY: Grand Rounds
DESCRIPTION: Ophthalmology and Visual Sciences Grand Rounds Presented by Ri
 chard Schroeder\, MD Glaucoma Fellow\, Ophthalmology and Visual Sciences Ca
 rla Siegfried\, MD Jacquelyn E. and Allan E. Kolker\, MD\, Distinguished Pr
 ofessor of Ophthalmology and Visual Sciences
X-ALT-DESC;FMTTYPE=text/html: <h4 style="text-align: center\;">Ophthalmolog
 y and Visual Sciences Grand Rounds</h4><p style="text-align: center\;">Pres
 ented by</p><p style="text-align: center\;"><a href="https://ophthalmology.
 wustl.edu/people/richard-schroeder-md/"><strong>Richard Schroeder\, MD</str
 ong></a></p><p style="text-align: center\;">Glaucoma Fellow\,</p><p style="
 text-align: center\;">Ophthalmology and Visual Sciences</p><p style="text-a
 lign: center\;"><a href="https://wuphysicians.wustl.edu/for-patients/find-a
 -physician/carla-j-siegfried"><strong>Carla Siegfried\, MD</strong></a></p>
 <p style="text-align: center\;">Jacquelyn E. and Allan E. Kolker\, MD\, Dis
 tinguished Professor</p><p style="text-align: center\;">of Ophthalmology an
 d Visual Sciences</p>
CATEGORIES:All,Grand Rounds
LOCATION:Zoom Platform
GEO:41.875562;-87.624421
ORGANIZER;CN="Zach":MAILTO:zflauaus@wustl.edu
URL;VALUE=URI:https://ophthalmology.wustl.edu/calendar/event/grand-rounds/
END:VEVENT
BEGIN:VTIMEZONE
TZID:America/Chicago
BEGIN:DAYLIGHT
TZOFFSETFROM:-0600
TZOFFSETTO:-0500
DTSTART:20200308T080000
TZNAME:CDT
END:DAYLIGHT
END:VTIMEZONE
END:VCALENDAR
