BEGIN:VCALENDAR
VERSION:2.0
PRODID:-//Ophthalmology &amp; Visual Sciences//NONSGML Events//EN
CALSCALE:GREGORIAN
X-ORIGINAL-URL:https://ophthalmology.wustl.edu/calendar/
X-WR-CALDESC:Ophthalmology &amp; Visual Sciences - Events
BEGIN:VEVENT
UID:20211010T0343Z-1633837408.0466-EO-6715-1@172.23.128.19
STATUS:CONFIRMED
DTSTAMP:20260425T194011Z
CREATED:20200421T165325Z
LAST-MODIFIED:20200421T165325Z
DTSTART;TZID=America/Chicago:20200115T070000
DTEND;TZID=America/Chicago:20200115T080000
SUMMARY: Michael A. Kass Lectureship
DESCRIPTION: Presented by Joshua Stein\, MD\, MS Edward T. and Ellen K. Dry
 er Career Development Professor in Ophthalmology and Visual Sciences Associ
 ate Professor\, Ophthalmology and Visual Science Michigan Medicine Universi
 ty of Michigan “The Future of Big Data in Ophthalmology”
X-ALT-DESC;FMTTYPE=text/html: <p style="text-align: center\;">Presented by<
 /p><p style="text-align: center\;"><b>Joshua Stein\, MD\, MS<br /></b>Edwar
 d T. and Ellen K. Dryer Career Development Professor in Ophthalmology and V
 isual Sciences</p><p style="text-align: center\;">Associate Professor\, Oph
 thalmology and Visual Science</p><p style="text-align: center\;">Michigan M
 edicine University of Michigan</p><p style="text-align: center\;">"The Futu
 re of Big Data in Ophthalmology"</p><p style="text-align: center\;">
CATEGORIES:All,Grand Rounds
LOCATION:Zoom Platform (link in event details)
GEO:0.000000;0.000000
ORGANIZER;CN="Zach":MAILTO:zflauaus@wustl.edu
URL;VALUE=URI:https://ophthalmology.wustl.edu/calendar/event/michael-a-kass
 -lectureship/
END:VEVENT
BEGIN:VTIMEZONE
TZID:America/Chicago
BEGIN:STANDARD
TZOFFSETFROM:-0500
TZOFFSETTO:-0600
DTSTART:20191103T070000
TZNAME:CST
END:STANDARD
END:VTIMEZONE
END:VCALENDAR
