BEGIN:VCALENDAR
VERSION:2.0
PRODID:-//Ophthalmology &amp; Visual Sciences//NONSGML Events//EN
CALSCALE:GREGORIAN
X-ORIGINAL-URL:https://ophthalmology.wustl.edu/calendar/
X-WR-CALDESC:Ophthalmology &amp; Visual Sciences - Events
BEGIN:VEVENT
UID:20240725T1432Z-1721917943.6134-EO-24524-1@172.23.128.18
STATUS:CONFIRMED
DTSTAMP:20260424T115409Z
CREATED:20240725T142609Z
LAST-MODIFIED:20240725T144715Z
DTSTART;TZID=America/Chicago:20240918T170000
DTEND;TZID=America/Chicago:20240918T183000
SUMMARY: Multidisciplinary Surgical Sim Lab Open House
DESCRIPTION: Multidisciplinary Surgical Sim Lab Open House Hosted by the De
 partments of Otolaryngology\, Ophthalmology\, and Neurosurgery Light refres
 hments will be served. Please mark your calendars and plan to attend! Hope 
 to see you there! DATE: Wednesday September 18th\, 2024 TIME: 5:00 pm – 6:3
 0 pm WHERE: Farrell Learning and Teaching Center- 6th Floor More Informatio
 n: New […]
X-ALT-DESC;FMTTYPE=text/html: <h2>Multidisciplinary Surgical Sim Lab Open H
 ouse</h2><h4>Hosted by the Departments of Otolaryngology\, Ophthalmology\, 
 and Neurosurgery</h4><p>Light refreshments will be served. Please mark your
  calendars and plan to attend! Hope to see you there!</p><p><strong>DATE: <
 /strong>Wednesday September 18th\, 2024</p><p><strong>TIME: </strong>5:00 p
 m - 6:30 pm</p><p><strong>WHERE: </strong><a href="https://meet.wustl.edu/p
 laces/farrell-learning-and-teaching-center-fltc/">Farrell Learning and Teac
 hing Center- 6th Floor</a></p><p><strong>More Information:</strong> <a href
 ="https://oto.wustl.edu/new-surgical-simulation-lab-takes-shape/">New surgi
 cal simulation lab takes shape - Otolaryngology–Head & Neck Surgery (wustl.
 edu)</a></p><p> </p><p> </p>
CATEGORIES:All,Featured,Social
LOCATION:Farrell Learning and Teaching Center 6th Floor
GEO:38.636032;-90.262806
ORGANIZER;CN="Katherine":MAILTO:fitzpatrick@wustl.edu
URL;VALUE=URI:https://ophthalmology.wustl.edu/calendar/event/multidisciplin
 ary-surgical-sim-lab-open-house/
ATTACH;FMTTYPE=application/pdf:https://ophthalmology.wustl.edu/app/uploads/2024/07/Sim-lab-open-house-1.pdf
END:VEVENT
BEGIN:VTIMEZONE
TZID:America/Chicago
BEGIN:DAYLIGHT
TZOFFSETFROM:-0600
TZOFFSETTO:-0500
DTSTART:20240310T080000
TZNAME:CDT
END:DAYLIGHT
END:VTIMEZONE
END:VCALENDAR
