BEGIN:VCALENDAR
VERSION:2.0
PRODID:-//Ophthalmology &amp; Visual Sciences//NONSGML Events//EN
CALSCALE:GREGORIAN
X-ORIGINAL-URL:https://ophthalmology.wustl.edu/calendar/
X-WR-CALDESC:Ophthalmology &amp; Visual Sciences - Events
BEGIN:VEVENT
UID:20211018T1659Z-1634576388.0679-EO-6803-1@172.23.128.19
STATUS:CONFIRMED
DTSTAMP:20260424T200910Z
CREATED:20200421T165328Z
LAST-MODIFIED:20200421T165328Z
DTSTART;TZID=America/Chicago:20181128T173000
DTEND;TZID=America/Chicago:20181128T183000
SUMMARY: Ophthalmology Grand Rounds
DESCRIPTION: Ophthalmology Grand Rounds presented by Gregory Van Stavern\, 
 MD & Loreley Smith\, MD Cynthia Montana\, MD\, PhD & Hui Zhao\, MD
X-ALT-DESC;FMTTYPE=text/html: <h3 style="text-align: center\;">Ophthalmolog
 y Grand Rounds</h3><p style="text-align: center\;">presented by</p><h4 styl
 e="text-align: center\;"><a href="https://ophthalmology.wustl.edu/people/gr
 egory-van-stavern-md/">Gregory Van Stavern\, MD</a> & <a href="https://opht
 halmology.wustl.edu/people/loreley-smith-md/">Loreley Smith\, MD</a></h4><h
 4 style="text-align: center\;"><a href="https://ophthalmology.wustl.edu/peo
 ple/cynthia-montana-md-phd/">Cynthia Montana\, MD\, PhD</a> &<a href="https
 ://ophthalmology.wustl.edu/people/hui-zhao-md-phd/"> Hui Zhao\, MD</a></h4>
CATEGORIES:All,Grand Rounds
LOCATION:Zoom Platform (link in event details)
GEO:0.000000;0.000000
ORGANIZER;CN="Zach":MAILTO:zflauaus@wustl.edu
URL;VALUE=URI:https://ophthalmology.wustl.edu/calendar/event/ophthalmology-
 grand-rounds-21/
END:VEVENT
BEGIN:VTIMEZONE
TZID:America/Chicago
BEGIN:STANDARD
TZOFFSETFROM:-0500
TZOFFSETTO:-0600
DTSTART:20181104T070000
TZNAME:CST
END:STANDARD
END:VTIMEZONE
END:VCALENDAR
