BEGIN:VCALENDAR
VERSION:2.0
PRODID:-//Ophthalmology &amp; Visual Sciences//NONSGML Events//EN
CALSCALE:GREGORIAN
X-ORIGINAL-URL:https://ophthalmology.wustl.edu/calendar/
X-WR-CALDESC:Ophthalmology &amp; Visual Sciences - Events
BEGIN:VEVENT
UID:20250819T1511Z-1755616290.1483-EO-28025-1@10.73.9.54
STATUS:CONFIRMED
DTSTAMP:20260423T202817Z
CREATED:20250819T150048Z
LAST-MODIFIED:20250909T144819Z
DTSTART;TZID=America/Chicago:20250919T160000
DTEND;TZID=America/Chicago:20250919T190000
SUMMARY: Research Lab Open House
DESCRIPTION: You’re invited! Join us as we celebrate the John F. Hardesty\,
  MD\, Department of Ophthalmology & Visual Sciences New Research Laboratori
 es. 📅 Friday\, September 19\, 2025 📍 9th Floor\, McDonnell Medical Sciences
  Building ⏰ Schedule: 4:00 p.m. – Faculty Open House 5:00–7:00 p.m. – Staff
  Open House Come explore our new space\, connect with colleagues\, […]
X-ALT-DESC;FMTTYPE=text/html: <p data-start="82" data-end="103">You’re invi
 ted!</p><p data-start="105" data-end="235">Join us as we celebrate the <str
 ong data-start="133" data-end="230">John F. Hardesty\, MD\, Department of O
 phthalmology & Visual Sciences New Research Laboratories.</strong></p><p da
 ta-start="237" data-end="328">📅 Friday\, September 19\, 2025</p><p data-sta
 rt="237" data-end="328"><br data-start="270" data-end="273" />📍 9th Floor\,
  McDonnell Medical Sciences Building</p><p data-start="237" data-end="328">
 <p data-start="330" data-end="343">⏰ Schedule:</p><ul data-start="344" data
 -end="424"><li data-start="344" data-end="382"><p data-start="346" data-end
 ="382">4:00 p.m. – Faculty Open House</p></li><li data-start="383" data-end
 ="424"><p data-start="385" data-end="424">5:00–7:00 p.m. – Staff Open House
 </p></li></ul><p data-start="426" data-end="551">Come explore our new space
 \, connect with colleagues\, and see the future of vision science research 
 at WashU Medicine!</p>
CATEGORIES:All
ORGANIZER;CN="Katherine":MAILTO:fitzpatrick@wustl.edu
URL;VALUE=URI:https://ophthalmology.wustl.edu/calendar/event/research-lab-o
 pen-house/
ATTACH;FMTTYPE=image/png:https://ophthalmology.wustl.edu/app/uploads/2025/08/Research-Lab.png
END:VEVENT
BEGIN:VTIMEZONE
TZID:America/Chicago
BEGIN:DAYLIGHT
TZOFFSETFROM:-0600
TZOFFSETTO:-0500
DTSTART:20250309T080000
TZNAME:CDT
END:DAYLIGHT
END:VTIMEZONE
END:VCALENDAR
