BEGIN:VCALENDAR
VERSION:2.0
PRODID:-//Ophthalmology &amp; Visual Sciences//NONSGML Events//EN
CALSCALE:GREGORIAN
X-ORIGINAL-URL:https://ophthalmology.wustl.edu/calendar/
X-WR-CALDESC:Ophthalmology &amp; Visual Sciences - Events
BEGIN:VEVENT
UID:20211010T0339Z-1633837161.2379-EO-6689-1@172.23.128.19
STATUS:CONFIRMED
DTSTAMP:20260425T175431Z
CREATED:20200421T165324Z
LAST-MODIFIED:20200421T165324Z
DTSTART;TZID=America/Chicago:20200226T120000
DTEND;TZID=America/Chicago:20200226T131500
SUMMARY: Special Seminar Series
DESCRIPTION: Special Seminar Series Presented by Carter Cornwall\, PhD Prof
 essor at the Department of Physiology and Biophysics Boston University Scho
 ol of Medicine “NIH Grant Writing Ins and Outs”
X-ALT-DESC;FMTTYPE=text/html: <h4 style="text-align: center\;">Special Semi
 nar Series</h4><p style="text-align: center\;">Presented by</p><h5 style="t
 ext-align: center\;"><a href="https://www.bumc.bu.edu/busm/profile/m-cornwa
 ll/">Carter Cornwall\, PhD</a></h5><h5 style="text-align: center\;">Profess
 or at the Department of Physiology and Biophysics</h5><h5 style="text-align
 : center\;">Boston University School of Medicine</h5><h5 style="text-align:
  center\;">"NIH Grant Writing Ins and Outs"</h5>
CATEGORIES:Special Seminar,Visiting Professor
LOCATION:Maternity Building 7th floor Conference room 725
GEO:38.636054;-90.263014
ORGANIZER;CN="Zach":MAILTO:zflauaus@wustl.edu
URL;VALUE=URI:https://ophthalmology.wustl.edu/calendar/event/special-semina
 r-series/
END:VEVENT
BEGIN:VTIMEZONE
TZID:America/Chicago
BEGIN:STANDARD
TZOFFSETFROM:-0500
TZOFFSETTO:-0600
DTSTART:20191103T070000
TZNAME:CST
END:STANDARD
END:VTIMEZONE
END:VCALENDAR
