BEGIN:VCALENDAR
VERSION:2.0
PRODID:-//Ophthalmology &amp; Visual Sciences//NONSGML Events//EN
CALSCALE:GREGORIAN
X-ORIGINAL-URL:https://ophthalmology.wustl.edu/calendar/
X-WR-CALDESC:Ophthalmology &amp; Visual Sciences - Events
BEGIN:VEVENT
UID:20250721T1401Z-1753106507.982-EO-27830-1@10.73.9.54
STATUS:CONFIRMED
DTSTAMP:20260423T212534Z
CREATED:20250721T140106Z
LAST-MODIFIED:20250731T185446Z
DTSTART;TZID=America/Chicago:20250828T113000
DTEND;TZID=America/Chicago:20250828T133000
RRULE:FREQ=WEEKLY;INTERVAL=2;BYDAY=FR;UNTIL=20260604T163000Z
RDATE;TZID=America/Chicago:20250829T113000,20250912T113000,20250926T113000,20251010T113000,20251024T113000,20251107T113000,20251205T113000,20251219T113000,20251121T113000,20260109T113000,20260123T113000,20260206T113000,20260220T113000,20260306T113000,20260320T113000,20260403T113000,20260414T113000,20260501T113000,20260515T113000,20260529T113000,20260604T113000
SUMMARY: Vision Research Forum
DESCRIPTION: The Vision Research Forum meets bi-weekly on Fridays starting 
 August 29\, 2025 to June 4\, 2026 Meetings are held at 11:30 a.m. in Mid-Ca
 mpus Center room 2057 and on Zoom. Each meeting will feature 2 short (~20-m
 inute) talks\, each followed by questions/discussion. Each presenter will h
 ave a maximum of 45 minutes total. Trainees are welcome […]
X-ALT-DESC;FMTTYPE=text/html: <h5>The Vision Research Forum meets bi-weekly
  on Fridays starting August 29\, 2025 to June 4\, 2026</h5><h5>Meetings are
  held at 11:30 a.m. in Mid-Campus Center room 2057 and on Zoom.</h5><p>Each
  meeting will feature 2 short (~20-minute) talks\, each followed by questio
 ns/discussion. Each presenter will have a maximum of 45 minutes total. Trai
 nees are welcome to present preliminary data / works in progress / early-st
 age projects that would benefit from input from the vision science communit
 y.</p><h4><strong>Please contact Jenna Krizan for Zoom Meeting information:
  krizanj@wustl.edu</strong></h4><p> </p><table width="686"><tbody><tr><td w
 idth="142">Date</td><td width="329">Slot 1</td><td width="215">Slot 2</td><
 /tr><tr><td>8/29/2025</td><td width="329">Anatomy of a Talk<br />Heather Ah
 rens\, PhD | Education Specialist\, DBBS<br />In-person only</td><td></td><
 /tr><tr><td>9/12/2025</td><td>Kerschensteiner (1/4)</td><td>Clark (1/4)</td
 ></tr><tr><td>9/26/2025</td><td width="329">THIS WEEK ONLY<br />UPDATED LOC
 ATION—Couch 4001B<br />Williams (1/3)</td><td width="215">Wang (1/3)</td></
 tr><tr><td>10/10/2025</td><td>Zhou (1/3)</td><td>Yoshimatsu (1/3)</td></tr>
 <tr><td>10/24/2025</td><td>Bassnett (1/2)</td><td>Corbo (1/2)</td></tr><tr>
 <td>11/7/2025</td><td>Walsh (1/2)</td><td>Ruzycki (1/2)</td></tr><tr><td>11
 /21/2025</td><td>Apte (1/2)</td><td>Kerschensteiner (2/4)</td></tr><tr><td>
 12/5/2025</td><td>Chen (1/2)</td><td>Liu (1/1)</td></tr><tr><td>12/19/2025<
 /td><td>Clark (2/4)</td><td>Williams (2/3)</td></tr><tr><td></td><td></td><
 td></td></tr><tr><td></td><td></td><td></td></tr><tr><td>Date</td><td>Slot 
 1</td><td>Slot 2</td></tr><tr><td>1/9/2026</td><td>Wang (2/3)</td><td>Zhou 
 (2/3)</td></tr><tr><td>1/23/2026</td><td>Lishko (1/1)</td><td>Yoshimatsu (2
 /3)</td></tr><tr><td>2/6/2026</td><td>Kerschensteiner (3/4)</td><td>Corbo (
 2/2)</td></tr><tr><td>2/20/2026</td><td>Clark (3/4)</td><td>Walsh (2/2)</td
 ></tr><tr><td>3/6/2026</td><td>Bassnett (2/2)</td><td>Williams (2/3)</td></
 tr><tr><td>3/20/2026</td><td>Ruzycki (2/2)</td><td>Apte (2/2)</td></tr><tr>
 <td>4/3/2026</td><td>Yoshimatsu (3/3)</td><td>Wang (3/3)</td></tr><tr><td>4
 /14/2026</td><td>Zhou (3/3)</td><td>Chen (2/2)</td></tr><tr><td>5/1/2026</t
 d><td>Sign-ups for ARVO poster spiels</td><td></td></tr><tr><td>5/15/2026</
 td><td>Kerschensteiner (4/4)</td><td>Clark (4/4)</td></tr><tr><td>5/29/2026
 </td><td width="329">TENTATIVE—Postdoc Winston Fellow Competition<br />Call
  for abstracts TBA<br />Location TBA</td><td></td></tr><tr><td width="142">
 THURSDAY<br />6/4/2026</td><td width="329">TENTATIVE—ITVS Winston Fellow Co
 mpetition & Reception<br />4:00pm seminar<br />Location TBA</td><td></td></
 tr></tbody></table><p>PIs: Expect an email reminder ~2 weeks before your la
 b's presentation date to identify your lab's representative presenter.</p><
 p>Presenters: Expect an email the week of your talk with instructions to up
 load your talk</p>
CATEGORIES:Vision Research
LOCATION:MCC Building RM 2057
GEO:37.712379;-122.060813
ORGANIZER;CN="Brianna":MAILTO:b.oliver@wustl.edu
URL;VALUE=URI:https://ophthalmology.wustl.edu/calendar/event/vision-researc
 h-forum-2/
END:VEVENT
BEGIN:VTIMEZONE
TZID:America/Chicago
BEGIN:DAYLIGHT
TZOFFSETFROM:-0600
TZOFFSETTO:-0500
DTSTART:20250309T080000
TZNAME:CDT
END:DAYLIGHT
BEGIN:STANDARD
TZOFFSETFROM:-0500
TZOFFSETTO:-0600
DTSTART:20251102T070000
TZNAME:CST
END:STANDARD
BEGIN:DAYLIGHT
TZOFFSETFROM:-0600
TZOFFSETTO:-0500
DTSTART:20260308T080000
TZNAME:CDT
END:DAYLIGHT
END:VTIMEZONE
END:VCALENDAR
