BEGIN:VCALENDAR
VERSION:2.0
PRODID:-//Ophthalmology &amp; Visual Sciences//NONSGML Events//EN
CALSCALE:GREGORIAN
X-ORIGINAL-URL:https://ophthalmology.wustl.edu/calendar/
X-WR-CALDESC:Ophthalmology &amp; Visual Sciences - Events
BEGIN:VEVENT
UID:20240812T1625Z-1723479913.5349-EO-24791-1@10.24.106.144
STATUS:CONFIRMED
DTSTAMP:20260423T201801Z
CREATED:20240812T153433Z
LAST-MODIFIED:20250514T194312Z
DTSTART;TZID=America/Chicago:20241011T110000
DTEND;TZID=America/Chicago:20241011T130000
RRULE:FREQ=WEEKLY;INTERVAL=1;BYDAY=FR;UNTIL=20250530T160000Z
EXDATE;TZID=America/Chicago:20241018T110000,20241101T110000,20241115T110000,20241129T110000,20241213T110000,20241227T110000,20250103T110000,20250117T110000,20250131T110000,20250214T110000,20250228T110000,20250314T110000,20250328T110000,20250411T110000,20250425T110000,20250509T110000,20250523T110000,20250516T110000
SUMMARY: Vision Research Forum
DESCRIPTION: The Vision Research Forum meets bi-weekly on Fridays starting 
 October 11\, 2024 – May 30\, 2024 Meetings are held at 11:30 a.m. in Mid-Ca
 mpus Center room 2057 and on Zoom. Trainees from labs performing Vision Sci
 ence research are invited to present their work and receive feedback from a
 n audience of invested Vision Science researchers. NEW […]
X-ALT-DESC;FMTTYPE=text/html: <h5>The Vision Research Forum meets bi-weekly
  on Fridays starting October 11\, 2024 - May 30\, 2024</h5><h5>Meetings are
  held at 11:30 a.m. in Mid-Campus Center room 2057 and on Zoom.</h5><p>Trai
 nees from labs performing Vision Science research are invited to present th
 eir work and receive feedback from an audience of invested Vision Science r
 esearchers.</p><h5>NEW THIS YEAR:</h5><p><strong>Each meeting will consist 
 of TWO short (~20 min) presentations</strong> from different labs\, which w
 ill each be followed by discussion. This format enables us to include more 
 labs interested in vision science\, and to give more trainees (esp. student
 s/postdocs) the opportunity to present their work and receive valuable feed
 back.</p><p>Early-stage trainees that might not yet have a complete dataset
  or story to tell are <strong>encouraged to present works in progress</stro
 ng>\, as feedback and discussion from the larger group can help identify fu
 ture experiments\, analyses\, etc. that may be of interest.</p><table width
 ="563"><tbody><tr><td colspan="3" width="563"><h5><strong>FALL 2024</strong
 ></h5></td></tr><tr><td width="120"><strong>Date</strong></td><td width="19
 2"><strong>Slot 1</strong></td><td width="251"><strong>Slot 2</strong></td>
 </tr><tr><td width="120"><strong>10/11/2024</strong></td><td width="192">Ke
 rschensteiner</td><td width="251">Clark</td></tr><tr><td width="120"><stron
 g>10/25/2024</strong></td><td width="192">Apte</td><td width="251">Yoshimat
 su</td></tr><tr><td width="120"><strong>11/8/2024</strong></td><td width="1
 92">Bassnett</td><td width="251">Kerschensteiner/Morgan <em>(interchangeabl
 e with other Kerschensteiner or Morgan dates)</em></td></tr><tr><td width="
 120"><strong>11/22/2024</strong></td><td width="192">Williams</td><td width
 ="251">Walsh</td></tr><tr><td width="120"><strong>12/6/2024</strong></td><t
 d width="192">Zhou</td><td width="251">Corbo</td></tr><tr><td width="120"><
 strong>12/20/2024</strong></td><td width="192">Chen/Sun</td><td width="251"
 >Kerschensteiner</td></tr><tr><td width="120"></td><td width="192"></td><td
  width="251"></td></tr><tr><td colspan="3" width="563"><h5><strong>SPRING 2
 025</strong></h5></td></tr><tr><td width="120"><strong>Date</strong></td><t
 d width="192"><strong>Slot 1</strong></td><td width="251"><strong>Slot 2</s
 trong></td></tr><tr><td width="120"><strong>1/10/2025</strong></td><td widt
 h="192">Apte</td><td width="251">Clark</td></tr><tr><td width="120"><strong
 >1/24/2025</strong></td><td width="192">Kerschensteiner</td><td width="251"
 >Ruzycki</td></tr><tr><td width="120"><strong>2/7/2025</strong></td><td wid
 th="192">Lishko</td><td width="251">Corbo</td></tr><tr><td width="120"><str
 ong>2/21/2025</strong></td><td width="192">Bassnett</td><td width="251">Ker
 schensteiner</td></tr><tr><td width="120"><strong>3/7/2025</strong></td><td
  width="192">Williams</td><td width="251">Clark</td></tr><tr><td width="120
 "><strong>3/21/2025</strong></td><td width="192">Zhou</td><td width="251">M
 organ</td></tr><tr><td width="120"><strong>4/4/2025</strong></td><td width=
 "192">Kerschensteiner</td><td width="251">Walsh</td></tr><tr><td width="120
 "><strong>4/18/2025</strong></td><td width="192">Zhou</td><td width="251">C
 hen/Sun</td></tr><tr><td width="120"><strong>5/2/2025</strong></td><td cols
 pan="2" width="443"><em>ARVO - No Vision Research Forum</em></td></tr><tr><
 td width="120"><strong>5/16/2025</strong></td><td width="192"><a href="http
 s://ophthalmology.wustl.edu/calendar/event/special-vision-research-forum-wi
 nston-fellow-postdoctoral-presentations/">Winston Fellow Post Doctoral Fina
 list Presentations</a></td><td width="251"></td></tr><tr><td width="120"><s
 trong>5/30/2025</strong></td><td width="192">Bright Center</td><td width="2
 51">Qian Wang</td></tr></tbody></table><p class="disclaimer">If interested 
 in joining the email list\, please contact Jenna Krizan (<a href="mailto:kr
 izanj@wustl.edu">krizanj@wustl.edu</a>).</p>
CATEGORIES:All,Special Seminar,Vision Research
LOCATION:MCC Building RM 2057
GEO:37.712379;-122.060813
ORGANIZER;CN="Katy":MAILTO:kpaglusch@wustl.edu
URL;VALUE=URI:https://ophthalmology.wustl.edu/calendar/event/vision-researc
 h-forum/
END:VEVENT
BEGIN:VTIMEZONE
TZID:America/Chicago
BEGIN:DAYLIGHT
TZOFFSETFROM:-0600
TZOFFSETTO:-0500
DTSTART:20240310T080000
TZNAME:CDT
END:DAYLIGHT
BEGIN:STANDARD
TZOFFSETFROM:-0500
TZOFFSETTO:-0600
DTSTART:20241103T070000
TZNAME:CST
END:STANDARD
BEGIN:DAYLIGHT
TZOFFSETFROM:-0600
TZOFFSETTO:-0500
DTSTART:20250309T080000
TZNAME:CDT
END:DAYLIGHT
END:VTIMEZONE
END:VCALENDAR
