BEGIN:VCALENDAR
VERSION:2.0
PRODID:-//Ophthalmology &amp; Visual Sciences//NONSGML Events//EN
CALSCALE:GREGORIAN
X-ORIGINAL-URL:https://ophthalmology.wustl.edu/calendar/
X-WR-CALDESC:Ophthalmology &amp; Visual Sciences - Events
BEGIN:VEVENT
UID:20220910T1036Z-1662806197.1078-EO-18895-1@172.23.128.19
STATUS:CONFIRMED
DTSTAMP:20260421T125023Z
CREATED:20220907T154115Z
LAST-MODIFIED:20230112T222532Z
DTSTART;TZID=America/Chicago:20230119T100000
DTEND;TZID=America/Chicago:20230119T110000
SUMMARY: Vision Science-1/19
DESCRIPTION: Vision Science Seminar “The Development of Maps in Visual Brai
 n Areas: Insights From Mammals\, Zebrafish and Computational Models” Presen
 ted by Geoffrey Goodhill\, PhD Professor of Neuroscience & Professor of Dev
 elopmental Biology\; Director\, Center for Theoretical and Computational Ne
 uroscience Departments of Developmental Biology and Neuroscience Washington
  University School of Medicine   *Please contact hughestraciem@wustl.edu fo
 r Zoom details
X-ALT-DESC;FMTTYPE=text/html: <p style="text-align: center\;"><strong>Visio
 n Science Seminar</strong></p><p style="text-align: center\;"><em><strong>"
 The Development of Maps in Visual Brain Areas: Insights From Mammals\, Zebr
 afish and Computational Models"</strong></em></p><p style="text-align: cent
 er\;">Presented by</p><p style="text-align: center\;"><a href="https://neur
 oscience.wustl.edu/people/geoffrey-goodhill-phd/">Geoffrey Goodhill\, PhD</
 a></p><p style="text-align: center\;">Professor of Neuroscience & Professor
  of Developmental Biology\; Director\, Center for Theoretical and Computati
 onal Neuroscience</p><p style="text-align: center\;">Departments of Develop
 mental Biology and Neuroscience</p><p style="text-align: center\;">Washingt
 on University School of Medicine</p><p> </p><p style="text-align: center\;"
 ><strong>*Please contact </strong><a href="mailto:hughestraciem@wustl.edu">
 <strong>hughestraciem@wustl.edu</strong></a><strong> for Zoom details</stro
 ng></p>
CATEGORIES:All,Vision Science Seminar
LOCATION:Maternity Building 7th floor Conference room 725
GEO:38.636054;-90.263014
ORGANIZER;CN="Katy":MAILTO:kpaglusch@wustl.edu
URL;VALUE=URI:https://ophthalmology.wustl.edu/calendar/event/vision-science
 -1-19/
END:VEVENT
BEGIN:VTIMEZONE
TZID:America/Chicago
BEGIN:STANDARD
TZOFFSETFROM:-0500
TZOFFSETTO:-0600
DTSTART:20221106T070000
TZNAME:CST
END:STANDARD
END:VTIMEZONE
END:VCALENDAR
