BEGIN:VCALENDAR
VERSION:2.0
PRODID:-//Ophthalmology &amp; Visual Sciences//NONSGML Events//EN
CALSCALE:GREGORIAN
X-ORIGINAL-URL:https://ophthalmology.wustl.edu/calendar/
X-WR-CALDESC:Ophthalmology &amp; Visual Sciences - Events
BEGIN:VEVENT
UID:20211117T1449Z-1637160573.3029-EO-14683-1@172.23.128.19
STATUS:CONFIRMED
DTSTAMP:20260419T055052Z
CREATED:20211027T014612Z
LAST-MODIFIED:20220107T224826Z
DTSTART;TZID=America/Chicago:20220113T100000
DTEND;TZID=America/Chicago:20220113T110000
SUMMARY: Vision Science Seminar-1/13
DESCRIPTION: Vision Science Seminar “The Neural Mechanism of Ocular Sensati
 ons” Presented by Qin Liu\, PhD Associate Professor of Anesthesiology The C
 enter for the Study of Itch Washington University Pain Center Washington Un
 iversity School of Medicine   *Please contact hughestraciem@wustl.edu for Z
 oom details
X-ALT-DESC;FMTTYPE=text/html: <p style="text-align: center\;"><strong>Visio
 n Science Seminar</strong></p><p style="text-align: center\;"><em><strong>"
 The Neural Mechanism of Ocular Sensations"</strong></em></p><p style="text-
 align: center\;">Presented by</p><p style="text-align: center\;"><a href="h
 ttps://itch.wustl.edu/people/qin-liu-phd/"><b>Qin Liu\, PhD</b></a></p><p s
 tyle="text-align: center\;">Associate Professor of Anesthesiology</p><p sty
 le="text-align: center\;">The Center for the Study of Itch</p><p style="tex
 t-align: center\;">Washington University Pain Center</p><p style="text-alig
 n: center\;">Washington University School of Medicine</p><p> </p><p style="
 text-align: center\;">*Please contact <a href="mailto:hughestraciem@wustl.e
 du"><strong>hughestraciem@wustl.edu</strong></a> for Zoom details</p>
CATEGORIES:All,Vision Science Seminar
LOCATION:Zoom Virtual Platform
GEO:38.626845;-90.256594
ORGANIZER;CN="Katy":MAILTO:kpaglusch@wustl.edu
URL;VALUE=URI:https://ophthalmology.wustl.edu/calendar/event/vision-science
 -seminar-1-13/
END:VEVENT
BEGIN:VTIMEZONE
TZID:America/Chicago
BEGIN:STANDARD
TZOFFSETFROM:-0500
TZOFFSETTO:-0600
DTSTART:20211107T070000
TZNAME:CST
END:STANDARD
END:VTIMEZONE
END:VCALENDAR
