BEGIN:VCALENDAR
VERSION:2.0
PRODID:-//Ophthalmology &amp; Visual Sciences//NONSGML Events//EN
CALSCALE:GREGORIAN
X-ORIGINAL-URL:https://ophthalmology.wustl.edu/calendar/
X-WR-CALDESC:Ophthalmology &amp; Visual Sciences - Events
BEGIN:VEVENT
UID:20220904T1247Z-1662295677.3966-EO-18898-1@172.23.128.19
STATUS:CONFIRMED
DTSTAMP:20260425T202626Z
CREATED:20220822T045157Z
LAST-MODIFIED:20230119T175633Z
DTSTART;TZID=America/Chicago:20230126T100000
DTEND;TZID=America/Chicago:20230126T110000
SUMMARY: Vision Science Seminar-1/26
DESCRIPTION: Vision Science Seminar “Glia As Gatekeepers of Neural Plastici
 ty” Presented by Sarah Ackerman\, PhD Assistant Professor of Neuropathology
  Department of Pathology and Immunology Washington University School of Med
 icine *Please contact hughestraciem@wustl.edu for Zoom details
X-ALT-DESC;FMTTYPE=text/html: <p style="text-align: center\;"><strong>Visio
 n Science Seminar</strong></p><p style="text-align: center\;"><em><strong>"
 Glia As Gatekeepers of Neural Plasticity"</strong></em></p><p style="text-a
 lign: center\;">Presented by</p><p style="text-align: center\;"><a href="ht
 tps://pathology.wustl.edu/people/sarah-ackerman-phd/">Sarah Ackerman\, PhD<
 /a></p><p style="text-align: center\;">Assistant Professor of Neuropatholog
 y</p><p style="text-align: center\;">Department of Pathology and Immunology
 </p><p style="text-align: center\;">Washington University School of Medicin
 e</p><p style="text-align: center\;"><strong>*Please contact </strong><a hr
 ef="mailto:hughestraciem@wustl.edu"><strong>hughestraciem@wustl.edu</strong
 ></a><strong> for Zoom details</strong></p>
CATEGORIES:All,Vision Science Seminar
LOCATION:Bernard Becker Medical Library\, Becker Classroom 405
GEO:38.634579;-90.263109
ORGANIZER;CN="Katy":MAILTO:kpaglusch@wustl.edu
URL;VALUE=URI:https://ophthalmology.wustl.edu/calendar/event/vision-science
 -seminar-1-26/
END:VEVENT
BEGIN:VTIMEZONE
TZID:America/Chicago
BEGIN:STANDARD
TZOFFSETFROM:-0500
TZOFFSETTO:-0600
DTSTART:20221106T070000
TZNAME:CST
END:STANDARD
END:VTIMEZONE
END:VCALENDAR
