BEGIN:VCALENDAR
VERSION:2.0
PRODID:-//Ophthalmology &amp; Visual Sciences//NONSGML Events//EN
CALSCALE:GREGORIAN
X-ORIGINAL-URL:https://ophthalmology.wustl.edu/calendar/
X-WR-CALDESC:Ophthalmology &amp; Visual Sciences - Events
BEGIN:VEVENT
UID:20220824T0821Z-1661329309.4764-EO-18880-1@172.23.128.19
STATUS:CONFIRMED
DTSTAMP:20260424T085257Z
CREATED:20220822T022747Z
LAST-MODIFIED:20221006T213351Z
DTSTART;TZID=America/Chicago:20221013T100000
DTEND;TZID=America/Chicago:20221013T110000
SUMMARY: Vision Science Seminar-10/13
DESCRIPTION: Vision Science Seminar “Neuropeptides and Circadian Photorecep
 tion” Presented by Erik Herzog\, PhD Viktor Hamburger Distinguished Profess
 or\, Department of Biology\; Director\, St. Louis Neuroscience Pipeline Was
 hington University in St. Louis *Please contact hughestraciem@wustl.edu for
  Zoom details
X-ALT-DESC;FMTTYPE=text/html: <p style="text-align: center\;"><strong>Visio
 n Science Seminar</strong></p><p style="text-align: center\;">"Neuropeptide
 s and Circadian Photoreception"</p><p style="text-align: center\;">Presente
 d by</p><p style="text-align: center\;"><a href="https://biology.wustl.edu/
 people/erik-herzog">Erik Herzog\, PhD</a></p><p style="text-align: center\;
 ">Viktor Hamburger Distinguished Professor\, Department of Biology\;</p><p 
 style="text-align: center\;">Director\, St. Louis Neuroscience Pipeline</p>
 <p style="text-align: center\;">Washington University in St. Louis</p><p st
 yle="text-align: center\;">*<strong>Please contact <a href="mailto:hughestr
 aciem@wustl.edu">hughestraciem@wustl.edu</a> for Zoom details</strong></p>
CATEGORIES:All,Vision Science Seminar
LOCATION:Maternity Building 7th floor Conference room 725
GEO:38.636054;-90.263014
ORGANIZER;CN="Katy":MAILTO:kpaglusch@wustl.edu
URL;VALUE=URI:https://ophthalmology.wustl.edu/calendar/event/vision-science
 -seminar-10-13/
END:VEVENT
BEGIN:VTIMEZONE
TZID:America/Chicago
BEGIN:DAYLIGHT
TZOFFSETFROM:-0600
TZOFFSETTO:-0500
DTSTART:20220313T080000
TZNAME:CDT
END:DAYLIGHT
END:VTIMEZONE
END:VCALENDAR
