BEGIN:VCALENDAR
VERSION:2.0
PRODID:-//Ophthalmology &amp; Visual Sciences//NONSGML Events//EN
CALSCALE:GREGORIAN
X-ORIGINAL-URL:https://ophthalmology.wustl.edu/calendar/
X-WR-CALDESC:Ophthalmology &amp; Visual Sciences - Events
BEGIN:VEVENT
UID:20210928T0441Z-1632804113.9571-EO-13996-1@172.23.128.18
STATUS:CONFIRMED
DTSTAMP:20260424T200944Z
CREATED:20210825T163708Z
LAST-MODIFIED:20211008T150856Z
DTSTART;TZID=America/Chicago:20211014T100000
DTEND;TZID=America/Chicago:20211014T110000
SUMMARY: Vision Science Seminar-10/14
DESCRIPTION: Vision Science Seminar “String Theory: The Role of Fibrillin P
 olymers in Ocular Health and Disease” Presented by Steven Bassnett\, PhD Pr
 ofessor\, Ophthalmology and Visual Sciences\, Cell Biology & Physiology Was
 hington University School of Medicine
X-ALT-DESC;FMTTYPE=text/html: <p style="text-align: center\;"><strong>Visio
 n Science Seminar</strong></p><p style="text-align: center\;"><em><strong>"
 String Theory: The Role of Fibrillin Polymers in Ocular Health and Disease"
 </strong></em></p><p style="text-align: center\;">Presented by</p><p style=
 "text-align: center\;"><a href="https://ophthalmology.wustl.edu/people/stev
 en-bassnett-phd/"><strong>Steven Bassnett\, PhD</strong></a></p><p style="t
 ext-align: center\;">Professor\, Ophthalmology and Visual Sciences\, Cell B
 iology & Physiology</p><p style="text-align: center\;">Washington Universit
 y School of Medicine</p>
CATEGORIES:All,Vision Science Seminar
LOCATION:Maternity Building 7th floor Conference room 725
GEO:38.636054;-90.263014
ORGANIZER;CN="Katy":MAILTO:kpaglusch@wustl.edu
URL;VALUE=URI:https://ophthalmology.wustl.edu/calendar/event/vision-science
 -seminar-10-14/
END:VEVENT
BEGIN:VTIMEZONE
TZID:America/Chicago
BEGIN:DAYLIGHT
TZOFFSETFROM:-0600
TZOFFSETTO:-0500
DTSTART:20210314T080000
TZNAME:CDT
END:DAYLIGHT
END:VTIMEZONE
END:VCALENDAR
